BEGIN:VCALENDAR
VERSION:2.0
PRODID:-//Great Southern Health Professional Network - ECPv6.15.20//NONSGML v1.0//EN
CALSCALE:GREGORIAN
METHOD:PUBLISH
X-WR-CALNAME:Great Southern Health Professional Network
X-ORIGINAL-URL:https://gshpn.com.au
X-WR-CALDESC:Events for Great Southern Health Professional Network
REFRESH-INTERVAL;VALUE=DURATION:PT1H
X-Robots-Tag:noindex
X-PUBLISHED-TTL:PT1H
BEGIN:VTIMEZONE
TZID:Australia/Perth
BEGIN:STANDARD
TZOFFSETFROM:+0800
TZOFFSETTO:+0800
TZNAME:AWST
DTSTART:20200101T000000
END:STANDARD
END:VTIMEZONE
BEGIN:VEVENT
DTSTART;VALUE=DATE:20211014
DTEND;VALUE=DATE:20211015
DTSTAMP:20260421T071331
CREATED:20210924T033056Z
LAST-MODIFIED:20210924T033747Z
UID:10000393-1634169600-1634255999@gshpn.com.au
SUMMARY:Allied Health Professionals Day
DESCRIPTION:AHPs day was first held in England in 2018 and is now an international event celebrating and bringing together the allied health professional community. \nAllied health professionals have been working on the frontline in hospitals in Australia’s response to COVID-19 and adapting to new methods of service delivery in primary care. From the ICU to community-based rehabilitation\, allied health professionals have an important role to play in physical and mental recovery for COVID-19 survivors. \nWe thank all allied health professionals for the work they are doing in contributing to COVID-19 recovery for individuals and for the ongoing care they are continuing to provide the broader community throughout the pandemic. \nFor more information please click here
URL:https://gshpn.com.au/event/allied-health-professionals-day/
LOCATION:WA\, Australia
CATEGORIES:Health
ATTACH;FMTTYPE=image/png:https://gshpn.com.au/wp-content/uploads/2021/09/email-banner-AHP2021-10.png
END:VEVENT
BEGIN:VEVENT
DTSTART;TZID=Australia/Perth:20211012T190000
DTEND;TZID=Australia/Perth:20211012T203000
DTSTAMP:20260421T071331
CREATED:20210915T030542Z
LAST-MODIFIED:20210915T030542Z
UID:10000391-1634065200-1634070600@gshpn.com.au
SUMMARY:Webinar - Adolescent Eating Disorders and the Role of the GP
DESCRIPTION:The GP’s roles in supporting families and adolescents with eating disorders (or at-risk of) is important. \nThis webinar explores identifying the at-risk patient\, assessment and diagnosis; the referral pathways available\, when to refer and coordinating care; useful resources and how GPs can support the patient and their families. \n\n\n\nLearning outcomes\n\nExplain the role of the GP in the early detection and assessment of patients with an eating disorder\nRecognise the features of at least two different types of eating disorders\nDevelop a comprehensive management plan\, including referral to appropriate services\nDescribe the role of the GP in the multidisciplinary team to support patients and their families within the community\n\nClick Here to register for this webinar
URL:https://gshpn.com.au/event/webinar-adolescent-eating-disorders-and-the-role-of-the-gp/
LOCATION:WA\, Australia
CATEGORIES:Health
END:VEVENT
BEGIN:VEVENT
DTSTART;TZID=Australia/Perth:20211007T183000
DTEND;TZID=Australia/Perth:20211007T203000
DTSTAMP:20260421T071331
CREATED:20210915T030834Z
LAST-MODIFIED:20210915T030834Z
UID:10000392-1633631400-1633638600@gshpn.com.au
SUMMARY:Workshop - Ophthalmology
DESCRIPTION:Over a light meal\, join colleagues as we explore the signs and symptoms of vision threatening ophthalmic conditions\, how to appropriately manage common ophthalmic infections in general practice and managing patients with acute and chronic glaucoma. Designed for GPs in training\, however this topic is suitable for all GPs wanting a refresher on this topic. \nCost: $30 Members \nCPD: 4 points \nRegister here 
URL:https://gshpn.com.au/event/workshop-ophthalmology/
LOCATION:WA\, Australia
CATEGORIES:Health
END:VEVENT
BEGIN:VEVENT
DTSTART;TZID=Australia/Perth:20211002T090000
DTEND;TZID=Australia/Perth:20211002T153000
DTSTAMP:20260421T071331
CREATED:20210915T030049Z
LAST-MODIFIED:20210915T030049Z
UID:10000309-1633165200-1633188600@gshpn.com.au
SUMMARY:GP - Breast Disease Education Forum
DESCRIPTION:One day GP education event featuring specialists in breast care from Perth Breast Cancer Institute and Perth Radiological Clinic.\nTopics will include: \n\nBreast Cancer contemporary management\nBenign breast problems including dense breasts\, implants\, fibroadenoma and more\nSurvivorship issues including menopausal symptoms\, diet and exercise\, fertility and bone health\nPanel discussion: questions and cases for discussion can be submitted upon registration\n\nEvent is held in completely separate area to quarantining guests \nLunch and morning/afternoon tea included. FREE EVENT for registered attendees.\nThis is a CPD Activity under the RACGP CPD Program \nBook here
URL:https://gshpn.com.au/event/gp-breast-disease-education-forum/
LOCATION:WA\, Australia
CATEGORIES:Health
END:VEVENT
BEGIN:VEVENT
DTSTART;TZID=Australia/Perth:20210930T183000
DTEND;TZID=Australia/Perth:20210930T193000
DTSTAMP:20260421T071331
CREATED:20210915T025807Z
LAST-MODIFIED:20210915T025807Z
UID:10000308-1633026600-1633030200@gshpn.com.au
SUMMARY:Webinar - Treating doctor - patient tips and traps
DESCRIPTION:Doctors face unique barriers to accessing health care and it’s well recognized that without their own GP\, doctors are more likely to self-diagnose\, self-treat and self-prescribe\, which can lead to poorer health outcomes. It’s not all bad news though\, doctors can learn a specific skillset that helps them treat other doctors more effectively. \nDuring this webinar you’ll gain insight into supporting doctor health and wellbeing\, as we cover: \n\nthe key health risks and health seeking behaviour of doctors\nstrategies for reducing the barriers to accessing health care for doctor-patients\nImproving the quality and outcomes of consultations with doctor-patients.\n\n\n\n\nLearning outcomes\n\nIdentify the key health risks and health seeking behaviour of doctors\nDescribe at least two strategies for reducing the barriers to accessing health care for doctor-patients\nExplain how to improve the quality and outcomes of consultations with doctor-patients\n\nClick here to register 
URL:https://gshpn.com.au/event/webinar-treating-doctor-patient-tips-and-traps/
LOCATION:WA\, Australia
CATEGORIES:Health
END:VEVENT
BEGIN:VEVENT
DTSTART;TZID=Australia/Perth:20210929T180000
DTEND;TZID=Australia/Perth:20210929T180000
DTSTAMP:20260421T071331
CREATED:20210908T074613Z
LAST-MODIFIED:20210908T074613Z
UID:10000306-1632938400-1632938400@gshpn.com.au
SUMMARY:Pressure rising: clinical controversies and updates in hypertension
DESCRIPTION:This World Heart Day\, the Heart Foundation is partnering with the World Heart Federation and the High Blood Pressure Council of Australia to bring to you another health professional live and recorded\, free Zoom webinar . Along with Prof Garry Jennings\, Chief Medical Advisor and Interim CEO of the Heart Foundation\, our global expert panel will explore the latest clinical controversies in blood pressure management\, including targets\, resistant hypertension\, and new digital technology for blood pressure monitoring. \nGeneral practitioner CPD accreditation will be applied for this educational activity \nhttps://heartfoundation-au.zoom.us/webinar/register/4016294312300/WN_m8-FHAYCQ9qhCJ4wckDo7g
URL:https://gshpn.com.au/event/pressure-rising-clinical-controversies-and-updates-in-hypertension/
LOCATION:WA\, Australia
CATEGORIES:Health
END:VEVENT
BEGIN:VEVENT
DTSTART;TZID=Australia/Perth:20210917T080000
DTEND;TZID=Australia/Perth:20210917T170000
DTSTAMP:20260421T071331
CREATED:20210722T034848Z
LAST-MODIFIED:20210722T034848Z
UID:10000386-1631865600-1631898000@gshpn.com.au
SUMMARY:2021 CRANAplus Virtual Symposium
DESCRIPTION:This year CRANAplus is inviting health professionals to Connect Across an Isolated Landscape at the 2021 CRANAplus Virtual Symposium on the 17th September. \nThis one day celebration of ideas continues our 37 year strong annual conference tradition in an online environment\, as we bridge the distances that separate our geographically dispersed workforce. \nPresentations from our keynote and VIP line-up will empower attendees to improve health outcomes\, start important conversations and apply new lessons within the communities they serve. \nHear from: \n\nHelen Zahos\, Humanitarian and Disaster Nurse\nAdjunct Prof. Shelley Nowlan\, Deputy Rural Health Commissioner\nProf. Yvonne Cadet-James\, Academic at James Cook University\nProf. Roianne West\, CEO of CATSINaM\n\nSpeakers will discuss topics including ear health\, wound care\, immunisation\, maternity and more – all from a remote and isolated perspective.  Attendance is FREE for members and only $50 for non-members. \nVisit the website for more information.
URL:https://gshpn.com.au/event/2021-cranaplus-virtual-symposium/
LOCATION:WA\, Australia
CATEGORIES:Health
ATTACH;FMTTYPE=image/jpeg:https://gshpn.com.au/wp-content/uploads/2021/07/CRANA0123_Symposium-Social-Tile-2_page-0001-1-e1626925581936.jpg
END:VEVENT
BEGIN:VEVENT
DTSTART;TZID=Australia/Perth:20210909T173000
DTEND;TZID=Australia/Perth:20210909T193000
DTSTAMP:20260421T071331
CREATED:20210831T043951Z
LAST-MODIFIED:20210831T043951Z
UID:10000302-1631208600-1631215800@gshpn.com.au
SUMMARY:Lishman Networking Event
DESCRIPTION:Hear from regional consultant paediatrician\,Dr Angela Alessandri as she shares her knowledge with an educational presentation ‘The approach to the crying and fussy baby’\, followed by the announcement of the 2021 Lishman Fellowship Awards as they recognise research initiatives by local health professionals. \nLocation :  Albany Surf Life Saving Club\n4 Flinders Parade\, Middleton Beach \nTO REGISTER\, visit ruralhealthwest. eventsair.com/gshpn-lishman/registration
URL:https://gshpn.com.au/event/lishman-networking-event/
LOCATION:WA\, Australia
CATEGORIES:Health
ATTACH;FMTTYPE=image/png:https://gshpn.com.au/wp-content/uploads/2021/08/GSHPN-HPN-Lishman-event-image-EA-website-header-1000x300px.png
END:VEVENT
BEGIN:VEVENT
DTSTART;TZID=Australia/Perth:20210909T170000
DTEND;TZID=Australia/Perth:20210909T190000
DTSTAMP:20260421T071331
CREATED:20210908T084414Z
LAST-MODIFIED:20210908T084414Z
UID:10000307-1631206800-1631214000@gshpn.com.au
SUMMARY:After Hours Aged Care Networking
DESCRIPTION:Many years ago\, there was a culture within the aged care sector to catch up after hours.  Conversations led to sharing the joys and woes of our weeks\, sharing ideas on ways to “save the world” and just a wonderful opportunity get to know each other outside of our working lives. \nThe first one went well\, upstairs at the Hybla.  So please join us to reinvigorate this concept and invite your colleagues working in the sector to our monthly catch-up. It occurs second Thursday of each month.  \nFor more information contact https://www.wapha.org.au/
URL:https://gshpn.com.au/event/after-hours-aged-care-networking/
LOCATION:WA\, Australia
END:VEVENT
BEGIN:VEVENT
DTSTART;TZID=Australia/Perth:20210902T170000
DTEND;TZID=Australia/Perth:20210902T180000
DTSTAMP:20260421T071331
CREATED:20210831T003725Z
LAST-MODIFIED:20210831T003725Z
UID:10000301-1630602000-1630605600@gshpn.com.au
SUMMARY:Best practice cognitive impairment and dementia care
DESCRIPTION:Best practice cognitive impairment and dementia care for Aboriginal and Torres Strait Islander peoples attending primary care \n\nThis first webinar is aimed at General Practitioners. Join Dr Mary Belfrage and Professor Constance Dimity Pond as they give an overview of best practice principles in the detection and management of cognitive impairment and dementia\, focusing on the cultural context of addressing the needs of older Aboriginal and Torres Strait Islander peoples\, their families\, carers and communities. \n\nObjectives \n\nDescribe best practice clinical and cultural aspects of the detection and management of cognitive impairment and dementia for Aboriginal and Torres Strait Islander peoples attending primary care\nUnderstand the ways in which brain health can be incorporated into primary health care throughout the life course\nLearn about the MBS and PBS aspects of providing care for Aboriginal and Torres Strait Islander peoples with cognitive impairment and dementia over the age of 50 years\n\nRegister here
URL:https://gshpn.com.au/event/best-practice-cognitive-impairment-and-dementia-care/
LOCATION:WA\, Australia
CATEGORIES:Health
END:VEVENT
BEGIN:VEVENT
DTSTART;TZID=Australia/Perth:20210831T050000
DTEND;TZID=Australia/Perth:20210831T180000
DTSTAMP:20260421T071331
CREATED:20210824T051408Z
LAST-MODIFIED:20210824T051408Z
UID:10000300-1630386000-1630432800@gshpn.com.au
SUMMARY:Webinar - Heart failure: how a team approach can optimise patient care
DESCRIPTION:Tuesday 31st August 2021\, 07:00-08:00 pm AEST (5pm WST) \nLive and recorded\, free Zoom webinar \nSpeakers:  \nMelissa Chapman – Facilitator (NPS MedicineWise)\nA/Prof Ralph Audehm – GP (University of Melbourne)\nProf Andrea Driscoll – Nurse practitioner (Deakin University)\nDale Richardson – Pharmacist\nGrace Castro – Person living with heart failure \nRegister on the following link:  \nhttps://www.nps.org.au/cpd/activities/heart-failure-how-a-team-approach-can-optimise-patient-care
URL:https://gshpn.com.au/event/webinar-heart-failure-how-a-team-approach-can-optimise-patient-care/
LOCATION:WA\, Australia
CATEGORIES:Health
END:VEVENT
BEGIN:VEVENT
DTSTART;TZID=Australia/Perth:20210818T120000
DTEND;TZID=Australia/Perth:20210818T120000
DTSTAMP:20260421T071331
CREATED:20210726T015746Z
LAST-MODIFIED:20210726T015746Z
UID:10000387-1629288000-1629288000@gshpn.com.au
SUMMARY:Infectious syphilis in Western Australia
DESCRIPTION:Infectious syphilis in Western Australia – Using the RISE Framework to Improve Maternal and Infant Health Outcomes \nThe Sexual Health and Blood-borne Virus Program (SHBBVP) is coordinating a series of videoconferences designed to provide current information and updates related to the outbreaks of infectious syphilis in Western Australia.   \nDate: Wednesday 18 August 2021\nTime: 12.00-12.45pm\nVenue: This presentation will be delivered via Microsoft Teams. Please see link below. \nPresenters:\nYvette Roe and Sue Kildea\, Charles Darwin University     \nVideoconference Information:\nThe session will be provided via videoconference and recorded. The recording will be made available on the WA Syphilis Outbreak Response website after the event. \nContact Person:\nRudie Marshall-Lang\nSHBBVP\nrudie.marshall-lang@health.wa.gov.au \n_______________________________________________________________________________ \nMicrosoft Teams meeting\nJoin on your computer or mobile app  \nClick here to join the meeting \nLearn More | Meeting options
URL:https://gshpn.com.au/event/infectious-syphilis-in-western-australia/
LOCATION:WA\, Australia
CATEGORIES:Health
END:VEVENT
BEGIN:VEVENT
DTSTART;TZID=Australia/Perth:20210721T160000
DTEND;TZID=Australia/Perth:20210721T173000
DTSTAMP:20260421T071331
CREATED:20210714T075654Z
LAST-MODIFIED:20210714T075654Z
UID:10000384-1626883200-1626888600@gshpn.com.au
SUMMARY:Introduction to Syphilis for Midwives on 21 July 2021
DESCRIPTION:This webinar provides Western Australian midwives with the information and tools required to improve syphilis screening and care for at-risk and key affected populations. The webinar also highlights the importance of contact tracing and partner notification. A combination of didactic and interactive quizzes will be used throughout the webinar \nThis course is for: All midwives in WA \nACM CPD Endorsement Activity \n21 July 2021\, 4:00pm – 5:30pm (AWST)  \nFunded by Government of Western Australia Department of Health \nFor more information or to register please visit the website
URL:https://gshpn.com.au/event/introduction-to-syphilis-for-midwives-on-21-july-2021/
LOCATION:WA\, Australia
CATEGORIES:Health
END:VEVENT
BEGIN:VEVENT
DTSTART;TZID=Australia/Perth:20210629T100000
DTEND;TZID=Australia/Perth:20210629T113000
DTSTAMP:20260421T071331
CREATED:20210526T004446Z
LAST-MODIFIED:20210526T004541Z
UID:10000299-1624960800-1624966200@gshpn.com.au
SUMMARY:My Future Care - An Introduction to Advance Care Planning (Safe Space)
DESCRIPTION:We all want to have a say in what happens in the last part of our lives. By making plans that cover our care\, lifestyle\, health and finances\, we work out what we want\, as well as making things easier on those around us. This process is called Advance Care Planning. \nThis free online workshop will cover information on what is involved in Advance Care Planning\, how to get started\, and how to talk with your loved ones about your end-of-life wishes. It is a practical and interactive workshop where you will have the chance to get your questions answered. \nThis workshop will be presented by Sabena Lund who runs Palliative Care WA’s community education program. \n  \nYou must register for this free online workshop here on Eventbrite. After you register we will: \n\nSend you a resource pack that you need to participate in the workshop\, and\nCloser to the time\, email you the Zoom link to use to access the workshop.\n\nIf you register by 22 June we will post you the resource pack. If you live in regional or remote areas of WA we recommend you register as soon as possible to give extra time for the resource pack to reach you. Anyone registering after then\, will receive their pack via email.
URL:https://gshpn.com.au/event/my-future-care-an-introduction-to-advance-care-planning-safe-space-2/
LOCATION:WA\, Australia
CATEGORIES:Health
END:VEVENT
BEGIN:VEVENT
DTSTART;TZID=Australia/Perth:20210623T180000
DTEND;TZID=Australia/Perth:20210623T193000
DTSTAMP:20260421T071331
CREATED:20210526T004043Z
LAST-MODIFIED:20210526T004043Z
UID:10000298-1624471200-1624476600@gshpn.com.au
SUMMARY:My Future Care - An Introduction to Advance Care Planning
DESCRIPTION:We all want to have a say in what happens in the last part of our lives. By making plans that cover our care\, lifestyle\, health and finances\, we work out what we want\, as well as making things easier on those around us. This process is called Advance Care Planning. \nThis free online workshop will cover information on what is involved in Advance Care Planning\, how to get started\, and how to talk with your loved ones about your end-of-life wishes. It is a practical and interactive workshop where you will have the chance to get your questions answered. \nThis workshop will be presented by Sabena Lund who runs Palliative Care WA’s community education program. \n  \nYou must register for this free online workshop here on Eventbrite. After you register we will: \n\nPost you a resource pack that you need to participate in the workshop\, and\nCloser to the time\, email you the Zoom link to use to access the workshop.\n\nIf you register by 16 June we will post you the resource pack. If you live in regional or remote areas of WA we recommend you registering as soon as possible to give extra time for the resource pack to reach you. Anyone registering after then\, will receive their pack via email.
URL:https://gshpn.com.au/event/my-future-care-an-introduction-to-advance-care-planning/
LOCATION:WA\, Australia
CATEGORIES:Health
END:VEVENT
BEGIN:VEVENT
DTSTART;TZID=Australia/Perth:20210623T173000
DTEND;TZID=Australia/Perth:20210623T190000
DTSTAMP:20260421T071331
CREATED:20210623T011212Z
LAST-MODIFIED:20210623T062737Z
UID:10000382-1624469400-1624474800@gshpn.com.au
SUMMARY:How to build confidence in COVID-19 vaccines
DESCRIPTION:About the Session: \nThis online session will cover the following: \n\nCOVID-19 vaccine overview.\nStrategies for empowering vaccine champions\, support for decision making and building trust.\nDiscussing COVID-19 vaccines with people who have questions or who may have concerns.\n\nAbout the speaker:  \nDr Jessica Kaufman\nResearch Fellow\, Vaccine Uptake Group\, Murdoch Children’s Research Institute Honorary Fellow\, Faculty of Medicine\, Dentistry and Health Sciences\, The University of Melbourne\nJessica is research fellow working with Associate Professor Margie Danchin in the Vaccine Uptake Group at the Murdoch Children’s Research Institute. \nHer current research focuses on interventions and policies to increase acceptance of COVID-19 vaccines and improve routine vaccine uptake in pregnant women\, children with neurodevelopmental disorders\, and people of refugee background. Jessica is an Honorary Fellow of the University of Melbourne and La Trobe University\, a member of the steering committee for the Collaboration on Social Science in Immunisation (COSSI) network\, and an editor with the Cochrane Consumers and Communication review group. \nMeeting Details:\nDate: Wednesday\, 23 June 2021\nTime: 5:30 pm to 7.00 pm (AWST) WA \nREGISTER NOW: visit https://www.mhpn.org.au/members#/Meeting/21656 \nDIRECT EVENT LINK: https://us02web.zoom.us/j/85820641964?pwd=NDF6TUpyTGdLbXhRbU9QN2loTTNPQT09
URL:https://gshpn.com.au/event/how-to-build-confidence-in-covid-19-vaccines/
LOCATION:WA\, Australia
CATEGORIES:Health
END:VEVENT
BEGIN:VEVENT
DTSTART;TZID=Australia/Perth:20210617T130000
DTEND;TZID=Australia/Perth:20210617T143000
DTSTAMP:20260421T071331
CREATED:20210526T003640Z
LAST-MODIFIED:20210526T003640Z
UID:10000297-1623934800-1623940200@gshpn.com.au
SUMMARY:My Future Care - An Introduction to Advance Care Planning (Safe Space)
DESCRIPTION:We all want to have a say in what happens in the last part of our lives. By making plans that cover our care\, lifestyle\, health and finances\, we work out what we want\, as well as making things easier on those around us. This process is called Advance Care Planning. \nThis free online workshop will cover information on what is involved in Advance Care Planning\, how to get started\, and how to talk with your loved ones about your end-of-life wishes. It is a practical and interactive workshop where you will have the chance to get your questions answered. \nThis workshop will be presented by Sabena Lund who runs Palliative Care WA’s community education program. \nYou must register for this free online workshop here on Eventbrite. After you register we will: \n\nSend you a resource pack that you need to participate in the workshop\, and\nCloser to the time\, email you the Zoom link to use to access the workshop.\n\nIf you register by 10 June we will post you the resource pack. If you live in regional or remote areas of WA we recommend you register as soon as possible to give extra time for the resource pack to reach you. Anyone registering after then\, will receive their pack via email.
URL:https://gshpn.com.au/event/my-future-care-an-introduction-to-advance-care-planning-safe-space/
LOCATION:WA\, Australia
CATEGORIES:Health
END:VEVENT
BEGIN:VEVENT
DTSTART;TZID=Australia/Perth:20210616T100000
DTEND;TZID=Australia/Perth:20210616T113000
DTSTAMP:20260421T071331
CREATED:20210526T003334Z
LAST-MODIFIED:20210526T003334Z
UID:10000296-1623837600-1623843000@gshpn.com.au
SUMMARY:Advance Care Planning Community Workshop
DESCRIPTION:Death is an important part of life. So like any other significant life event\, it’s well worth your consideration and a little forward planning. \nThis process is called advance care planning. Advance care planning is the process of discussing and documenting your future health care wishes\, values and priorities. It enables your family\, friends\, carers and health professionals to understand what you want\, should you become so unwell that you are unable to speak for yourself. More than 80% of Australians think it’s important to put our end-of-life care preferences into writing\, but less than 5% of us have completed an advance care plan. \nBOOKINGS ARE ESSENTIAL as places are limited. Register now to receive your Resource Pack in the mail. \nFor further information\, please contact the Place & Community Development Team on 9531 7628. \nPart of the Socially Active Seniors Program funded by the Department of Communities and the Shire of Murray.
URL:https://gshpn.com.au/event/advance-care-planning-community-workshop/
LOCATION:WA\, Australia
CATEGORIES:Health
END:VEVENT
BEGIN:VEVENT
DTSTART;TZID=Australia/Perth:20210602T170000
DTEND;TZID=Australia/Perth:20210602T180000
DTSTAMP:20260421T071331
CREATED:20210602T035755Z
LAST-MODIFIED:20210602T035755Z
UID:10000379-1622653200-1622656800@gshpn.com.au
SUMMARY:My Health Record Improvements Webinar
DESCRIPTION:Wed 2 Jun 2021 5:00pm\nThis ACCRM webinar lead by the Australian Digital Health Agency will provide information on how to use the My Health Record System. Doctors will learn about the benefits of using the system as well as all the latest improvements \nLearning Objectives: \nBy the end of the webinar doctors will know: \n\nWhat is the My Health Record system and what benefit is there to me and my patients in using the system.\nWhat changes and enhancements have been made\, in particular with Pathology\, Diagnostic Imaging and Advance Care Directives.\nEducation and Training resources available.\nWhere to get further help and assistance.\nWho (rural doctors) is using it and what is their experience.\nHow beneficial is it to patients and carers.\nFuture enhancements for the My Health Record system.\n\nFor more information or to register please visit the website.
URL:https://gshpn.com.au/event/my-health-record-improvements-webinar/
LOCATION:WA\, Australia
CATEGORIES:Health
END:VEVENT
BEGIN:VEVENT
DTSTART;TZID=Australia/Perth:20210520T180000
DTEND;TZID=Australia/Perth:20210520T193000
DTSTAMP:20260421T071331
CREATED:20210506T025001Z
LAST-MODIFIED:20210506T025001Z
UID:10000342-1621533600-1621539000@gshpn.com.au
SUMMARY:Culturally responsive care and Blood Borne viruses: Webinar series for WA healthcare workers
DESCRIPTION:Session Two: Thursday 20 May\, 6:00pm – 7:30pm (AWST)\nLocation: Zoom (Online) \nFor: General Practitioners\, Nurse Practitioners\, Nurses and other interested healthcare workers. \nLearning Objectives\n• Increase understanding of the challenges and barriers experienced by people from migrant and refugee backgrounds who are living with CHB.\n• Outline the importance of providing culturally responsive and trauma-informed health care\, including working with interpreters.\n• Contrast the trajectories of Hepatitis B disease in people from CALD backgrounds compared to people born in Australia.\n• Describe the different biopsychosocial considerations faced by people from CALD communities living with CHB across their life span. \nRegister online here
URL:https://gshpn.com.au/event/culturally-responsive-care-and-blood-borne-viruses-webinar-series-for-wa-healthcare-workers/
LOCATION:WA\, Australia
CATEGORIES:Health
END:VEVENT
BEGIN:VEVENT
DTSTART;TZID=Australia/Perth:20210513T180000
DTEND;TZID=Australia/Perth:20210513T193000
DTSTAMP:20260421T071331
CREATED:20210506T025145Z
LAST-MODIFIED:20210506T025145Z
UID:10000343-1620928800-1620934200@gshpn.com.au
SUMMARY:Culturally responsive care and Blood Borne viruses: Webinar series for WA healthcare workers
DESCRIPTION:Session One: Thursday 13 May\, 6:00pm – 7:30pm (AWST)\nLocation: Zoom (Online) \nFor: General Practitioners\, Nurse Practitioners\, Nurses and other interested healthcare workers. \nLearning Objectives\n• Increase understanding of the challenges and barriers experienced by people from migrant and refugee backgrounds who are living with CHB.\n• Outline the importance of providing culturally responsive and trauma-informed health care\, including working with interpreters.\n• Contrast the trajectories of Hepatitis B disease in people from CALD backgrounds compared to people born in Australia.\n• Describe the different biopsychosocial considerations faced by people from CALD communities living with CHB across their life span. \nRegister online here
URL:https://gshpn.com.au/event/culturally-responsive-care-and-blood-borne-viruses-webinar-series-for-wa-healthcare-workers-2/
LOCATION:WA\, Australia
CATEGORIES:Health
END:VEVENT
END:VCALENDAR