BEGIN:VCALENDAR
VERSION:2.0
PRODID:-//Great Southern Health Professional Network - ECPv6.15.20//NONSGML v1.0//EN
CALSCALE:GREGORIAN
METHOD:PUBLISH
X-ORIGINAL-URL:https://gshpn.com.au
X-WR-CALDESC:Events for Great Southern Health Professional Network
REFRESH-INTERVAL;VALUE=DURATION:PT1H
X-Robots-Tag:noindex
X-PUBLISHED-TTL:PT1H
BEGIN:VTIMEZONE
TZID:Australia/Perth
BEGIN:STANDARD
TZOFFSETFROM:+0800
TZOFFSETTO:+0800
TZNAME:AWST
DTSTART:20240101T000000
END:STANDARD
END:VTIMEZONE
BEGIN:VEVENT
DTSTART;TZID=Australia/Perth:20250807T110000
DTEND;TZID=Australia/Perth:20250807T120000
DTSTAMP:20260424T064118
CREATED:20250612T052029Z
LAST-MODIFIED:20250612T052029Z
UID:10000665-1754564400-1754568000@gshpn.com.au
SUMMARY:Health eMinds ECHO | Building trust and engagement – Culturally responsive communication | Webinar
DESCRIPTION:Health eMinds provides mental health education\, peer connections and support for healthcare workers across Northern Australia. Building a collaborative and interactive online network\, sharing knowledge and empowering participating health professionals to manage and support the delivery of mental health services in their communities\, increasing capacity in the local health workforce through the sharing of specialist knowledge and peer experience. \nHealth eMinds curriculum Feb-August_25
URL:https://gshpn.com.au/event/health-eminds-echo-building-trust-and-engagement-culturally-responsive-communication-webinar-2/
LOCATION:Online event
CATEGORIES:Health
ORGANIZER;CN="Health eMinds ECHO":MAILTO:healthemindsecho@uq.edu.au
END:VEVENT
BEGIN:VEVENT
DTSTART;TZID=Australia/Perth:20250703T110000
DTEND;TZID=Australia/Perth:20250703T120000
DTSTAMP:20260424T064118
CREATED:20250612T045556Z
LAST-MODIFIED:20250612T045653Z
UID:10000664-1751540400-1751544000@gshpn.com.au
SUMMARY:Health eMinds ECHO | Perinatal Infant Mental Health e-PIMH | Webinar
DESCRIPTION:Health eMinds provides mental health education\, peer connections and support for healthcare workers across Northern Australia. Building a collaborative and interactive online network\, sharing knowledge and empowering participating health professionals to manage and support the delivery of mental health services in their communities\, increasing capacity in the local health workforce through the sharing of specialist knowledge and peer experience. \nHealth eMinds curriculum Feb-August_25
URL:https://gshpn.com.au/event/health-eminds-echo-perinatal-infant-mental-health-e-pimh-webinar/
LOCATION:Online event
CATEGORIES:Health
ORGANIZER;CN="Health eMinds ECHO":MAILTO:healthemindsecho@uq.edu.au
END:VEVENT
BEGIN:VEVENT
DTSTART;TZID=Australia/Perth:20250501T110000
DTEND;TZID=Australia/Perth:20250501T120000
DTSTAMP:20260424T064118
CREATED:20250219T082544Z
LAST-MODIFIED:20250219T082629Z
UID:10000636-1746097200-1746100800@gshpn.com.au
SUMMARY:Health eMinds ECHO | Building trust and engagement – Culturally responsive communication | Webinar
DESCRIPTION:What is Health eMinds ECHO? \n* a virtual network to share knowledge and experience related to mental health care and services\n* a series of free interactive\, case-based education sessions delivered online\, bringing together specialist and primary care services\n* a community of practice which helps decrease professional isolation and fosters a supportive network across northern Australia\n* free for any healthcare workers\, including allied\, community and mental health services (clinical and non-clinical). \nBenefits of Health eMinds ECHO\n* A virtual network to share mental health care knowledge & experiences\n* An opportunity to connect with mental health specialists\n* Improve local workforce capacity and delivery of high-quality mental health care\n* Access to mentoring\, by peers and subject matter experts\n* Reduce professional isolation and increase job satisfaction\n* Promotes peer support and engagement between primary health services \nMonthly sessions include:\n10-minute didactic presentation by subject matter expert or panellist\nCase study discussion – participant to share a de-identified patient case\nQ&A on the presentation and case study – open to all participants
URL:https://gshpn.com.au/event/health-eminds-echo-building-trust-and-engagement-culturally-responsive-communication-webinar/
LOCATION:Online event
CATEGORIES:Health
ORGANIZER;CN="Health eMinds ECHO":MAILTO:healthemindsecho@uq.edu.au
END:VEVENT
BEGIN:VEVENT
DTSTART;TZID=Australia/Perth:20250403T110000
DTEND;TZID=Australia/Perth:20250403T120000
DTSTAMP:20260424T064118
CREATED:20250219T082001Z
LAST-MODIFIED:20250219T082001Z
UID:10000635-1743678000-1743681600@gshpn.com.au
SUMMARY:Health eMinds ECHO | Culturally derived or adapted (and validated) screening tools | Webinar
DESCRIPTION:What is Health eMinds ECHO? \n* a virtual network to share knowledge and experience related to mental health care and services\n* a series of free interactive\, case-based education sessions delivered online\, bringing together specialist and primary care services\n* a community of practice which helps decrease professional isolation and fosters a supportive network across northern Australia\n* free for any healthcare workers\, including allied\, community and mental health services (clinical and non-clinical). \nBenefits of Health eMinds ECHO\n* A virtual network to share mental health care knowledge & experiences\n* An opportunity to connect with mental health specialists\n* Improve local workforce capacity and delivery of high-quality mental health care\n* Access to mentoring\, by peers and subject matter experts\n* Reduce professional isolation and increase job satisfaction\n* Promotes peer support and engagement between primary health services \nMonthly sessions include:\n10-minute didactic presentation by subject matter expert or panellist\nCase study discussion – participant to share a de-identified patient case\nQ&A on the presentation and case study – open to all participants
URL:https://gshpn.com.au/event/health-eminds-echo-culturally-derived-or-adapted-and-validated-screening-tools-webinar/
LOCATION:Online event
CATEGORIES:Health
ORGANIZER;CN="Health eMinds ECHO":MAILTO:healthemindsecho@uq.edu.au
END:VEVENT
END:VCALENDAR