BEGIN:VCALENDAR
VERSION:2.0
PRODID:-//Great Southern Health Professional Network - ECPv6.15.20//NONSGML v1.0//EN
CALSCALE:GREGORIAN
METHOD:PUBLISH
X-WR-CALNAME:Great Southern Health Professional Network
X-ORIGINAL-URL:https://gshpn.com.au
X-WR-CALDESC:Events for Great Southern Health Professional Network
REFRESH-INTERVAL;VALUE=DURATION:PT1H
X-Robots-Tag:noindex
X-PUBLISHED-TTL:PT1H
BEGIN:VTIMEZONE
TZID:Australia/Perth
BEGIN:STANDARD
TZOFFSETFROM:+0800
TZOFFSETTO:+0800
TZNAME:AWST
DTSTART:20200101T000000
END:STANDARD
END:VTIMEZONE
BEGIN:VEVENT
DTSTART;TZID=Australia/Perth:20210513T093000
DTEND;TZID=Australia/Perth:20210513T103000
DTSTAMP:20260424T180032
CREATED:20210512T050102Z
LAST-MODIFIED:20210512T050102Z
UID:10000347-1620898200-1620901800@gshpn.com.au
SUMMARY:Taming Toddler Tantrums – Albany
DESCRIPTION:A sneak peak at toddler behaviours and the meaning behind them. \nSome topics covered include: \n\nWhy does my child seem to lose it over the smallest thing?\nHow can I help my child with their big emotions\nGetting my child to listen to me\nDiscipline v punishment\n\nWhere: Training Room\, Albany Leisure and Aquatic Centre (ALAC)\nWhen: 9.30 to 10.30am\, Thursday 13 May 2021\nCost: Free\nCrèche: Provided (bookings essential)\nFor more information:  Contact Margot Morgan on 0448 137 192 or email mmorgan@wanslea.asn.au
URL:https://gshpn.com.au/event/taming-toddler-tantrums-albany/
LOCATION:Albany Leisure and Aquatic Centre\, 52 - 70 Barker Rd\, Centennial Park\, WA\, 6330\, Australia
END:VEVENT
BEGIN:VEVENT
DTSTART;TZID=Australia/Perth:20210511T080000
DTEND;TZID=Australia/Perth:20210511T170000
DTSTAMP:20260424T180032
CREATED:20210506T025707Z
LAST-MODIFIED:20210506T025707Z
UID:10000344-1620720000-1620752400@gshpn.com.au
SUMMARY:The WA Ear and Hearing Telehealth Forum 2021
DESCRIPTION:Working together to explore ways to work together to explore the role of telehealth along the ear health pathway. \nHealth professionals and providers are invited to join us on Friday 11 June 2021 for this one-day event to: \n\nExplore the role of telehealth across the patient’s ear health journey and lifespan.\nIdentify statewide telehealth capabilities\, where telehealth systems are working well and where improvements can be adopted.\nShare knowledge and skills to improve health care delivery in Aboriginal communities through innovative telehealth solutions.\nParticipate in hands-on interactive upskilling and education.\nLearn practical applications including use of technology and culturally inclusive practices for Aboriginal people and families.\nEngage and network with other health professionals and providers working to reduce the burden of ear disease.\n\nForum details \n\nDate: Friday 11 June 2021\nVenue: Esplanade Hotel Fremantle by Rydges\, Indian Ocean Suite\nRegister online here
URL:https://gshpn.com.au/event/the-wa-ear-and-hearing-telehealth-forum-2021/
LOCATION:Esplanade Hotel Fremantle\, Fremantle\, WA\, 6160\, Australia
CATEGORIES:Health
END:VEVENT
BEGIN:VEVENT
DTSTART;TZID=Australia/Perth:20210505T083000
DTEND;TZID=Australia/Perth:20210505T140000
DTSTAMP:20260424T180032
CREATED:20210329T234554Z
LAST-MODIFIED:20210329T234554Z
UID:10000328-1620203400-1620223200@gshpn.com.au
SUMMARY:Palliative Approach to Care for Aboriginal Health Care Professionals
DESCRIPTION:Come and join us for an interactive session\, utilising group discussion and case studies to provide participants with a greater understanding of palliative care and how it can be implemented where they work \nTopics covered \n\npalliative approach\ncommunication skills\nadvance care planning\nend of life care\nloss\, grief and healing\n\nhttps://www.cancerwa.asn.au/articles/calendar-health-professional-training-seminars-and/pepa-palliative-approach-to-care-for-aboriginal-he-2/
URL:https://gshpn.com.au/event/palliative-approach-to-care-for-aboriginal-health-care-professionals/
LOCATION:Katanning\, Katanning\, WA\, 6317\, Australia
CATEGORIES:Health
END:VEVENT
BEGIN:VEVENT
DTSTART;TZID=Australia/Perth:20210503T140000
DTEND;TZID=Australia/Perth:20210503T150000
DTSTAMP:20260424T180032
CREATED:20210330T011953Z
LAST-MODIFIED:20210330T011953Z
UID:10000330-1620050400-1620054000@gshpn.com.au
SUMMARY:Diabetes Upskilling | Diabetes & Technology Update
DESCRIPTION:A summary of the different pumps and CGMs that are available and the different features. What are the pros and cons of using the technology? Do they really make a difference? \nhttps://members.diabeteswa.com.au/event/sessions?id=Online_Health_Professional_Diabetes_Upskilling3313739791 \nDiabetes WA helps build diabetes management capacity in WA by providing regular updates for health professionals through the channel of telehealth. Join us for free professional development\, in the comfort of your own workplace or home*. \nThese sessions will be recorded. Please register for the event/s you are interested in – this is how you will receive the link to join the upskilling event and the link to watch the recorded session.\nPlease note that this quarter all sessions will be via Zoom while the Scopia platform is being updated.
URL:https://gshpn.com.au/event/diabetes-technology-update/
LOCATION:Online event
CATEGORIES:Health
END:VEVENT
END:VCALENDAR