BEGIN:VCALENDAR
VERSION:2.0
PRODID:-//Great Southern Health Professional Network - ECPv6.15.20//NONSGML v1.0//EN
CALSCALE:GREGORIAN
METHOD:PUBLISH
X-ORIGINAL-URL:https://gshpn.com.au
X-WR-CALDESC:Events for Great Southern Health Professional Network
REFRESH-INTERVAL;VALUE=DURATION:PT1H
X-Robots-Tag:noindex
X-PUBLISHED-TTL:PT1H
BEGIN:VTIMEZONE
TZID:Australia/Perth
BEGIN:STANDARD
TZOFFSETFROM:+0800
TZOFFSETTO:+0800
TZNAME:AWST
DTSTART:20240101T000000
END:STANDARD
END:VTIMEZONE
BEGIN:VEVENT
DTSTART;TZID=Australia/Perth:20250403T110000
DTEND;TZID=Australia/Perth:20250403T120000
DTSTAMP:20260423T024522
CREATED:20250219T082001Z
LAST-MODIFIED:20250219T082001Z
UID:10000635-1743678000-1743681600@gshpn.com.au
SUMMARY:Health eMinds ECHO | Culturally derived or adapted (and validated) screening tools | Webinar
DESCRIPTION:What is Health eMinds ECHO? \n* a virtual network to share knowledge and experience related to mental health care and services\n* a series of free interactive\, case-based education sessions delivered online\, bringing together specialist and primary care services\n* a community of practice which helps decrease professional isolation and fosters a supportive network across northern Australia\n* free for any healthcare workers\, including allied\, community and mental health services (clinical and non-clinical). \nBenefits of Health eMinds ECHO\n* A virtual network to share mental health care knowledge & experiences\n* An opportunity to connect with mental health specialists\n* Improve local workforce capacity and delivery of high-quality mental health care\n* Access to mentoring\, by peers and subject matter experts\n* Reduce professional isolation and increase job satisfaction\n* Promotes peer support and engagement between primary health services \nMonthly sessions include:\n10-minute didactic presentation by subject matter expert or panellist\nCase study discussion – participant to share a de-identified patient case\nQ&A on the presentation and case study – open to all participants
URL:https://gshpn.com.au/event/health-eminds-echo-culturally-derived-or-adapted-and-validated-screening-tools-webinar/
LOCATION:Online event
CATEGORIES:Health
ORGANIZER;CN="Health eMinds ECHO":MAILTO:healthemindsecho@uq.edu.au
END:VEVENT
BEGIN:VEVENT
DTSTART;TZID=Australia/Perth:20250410T080000
DTEND;TZID=Australia/Perth:20250410T160000
DTSTAMP:20260423T024522
CREATED:20250121T042920Z
LAST-MODIFIED:20250121T042920Z
UID:10000622-1744272000-1744300800@gshpn.com.au
SUMMARY:Cardiac Emergency Management (CEM) | Albany
DESCRIPTION:This Rural Health West CPD workshop\, led by a team of emergency medicine specialists\, is tailored for medical practitioners working in rural and remote settings who wish to refresh and enhance their expertise in managing cardiac emergencies.\nThe program combines engaging lectures\, case study discussions\, and hands-on simulation scenarios to strengthen participants’ knowledge\, technical skills\, and teamwork. These elements are designed to improve the identification and management of acute cardiac emergencies\, ultimately leading to better patient care. \nEligibility: Medical Practitioners\, GP’s\, ED Doctors and ED/Theatre Nurses. Priority will be given to currently practising medical practitioners within the region.\nLength: One day – 8.00am-4.00pm.\nCost: $250 – $350 \nAccreditation:\nPending accreditation with RACGP and ACRRM. \nREGISTER HERE
URL:https://gshpn.com.au/event/cardiac-emergency-management-cem-albany/
LOCATION:Western Australia
CATEGORIES:Health
END:VEVENT
BEGIN:VEVENT
DTSTART;TZID=Australia/Perth:20250410T110000
DTEND;TZID=Australia/Perth:20250410T120000
DTSTAMP:20260423T024522
CREATED:20250219T085039Z
LAST-MODIFIED:20250219T085039Z
UID:10000637-1744282800-1744286400@gshpn.com.au
SUMMARY:TeleHealth Skills Echo | Engaging with ACCHO’s - Telehealth benefits for First Nations Peoples | Webinar
DESCRIPTION:What is Telehealth Skills ECHO? \nA virtual network to share telehealth knowledge and experiences – increasing knowledge\, capacity and quality health care\nA series of free\, interactive\, case-based virtual mentoring sessions to support telehealth in a range of healthcare settings\nSessions are open to anyone working in healthcare in Northern Australia who are using or considering using telehealth services\nA peer network that decreases professional isolation – improving health outcomes for patients and families \nMonthly development sessions include:\n10 minute\npresentation by telehealth experts\nCase study\ntell us about your telehealth challenge\nQ+A of the presentation and case study – open to all participants \nTelehealth Skills ECHO Curriculum_2025
URL:https://gshpn.com.au/event/telehealth-skills-echo-engaging-with-acchos-telehealth-benefits-for-first-nations-peoples-webinar/
LOCATION:Online event
CATEGORIES:Health
END:VEVENT
BEGIN:VEVENT
DTSTART;TZID=Australia/Perth:20250415T090000
DTEND;TZID=Australia/Perth:20250415T150000
DTSTAMP:20260423T024522
CREATED:20250311T074515Z
LAST-MODIFIED:20250311T074515Z
UID:10000646-1744707600-1744729200@gshpn.com.au
SUMMARY:Advanced Training in Suicide Prevention
DESCRIPTION:Learning outcomes:\n\nUndertake a suicide risk assessment effectively\nDevelop a collaborative safety plan\nImplement a team approach to treatment planning\nProvide effective management following a suicide attempt\n\nAccreditation:  \n\n6.5 CPD hours incl. 5.5 hrs Education Activity & 1 hr Reviewing Performance (RACGP & ACRRM)\nMental Health CPD (GPMHSC)\n6.5 CPD hours for psychologists\n\nDetails: \n\nFREE – This event is supported by WA Primary Health Alliance under the Australian Government’s Primary Health Networks Program\n\nTo register click HERE.
URL:https://gshpn.com.au/event/advanced-training-in-suicide-prevention/
LOCATION:Western Australia
CATEGORIES:Health
END:VEVENT
BEGIN:VEVENT
DTSTART;TZID=Australia/Perth:20250415T110000
DTEND;TZID=Australia/Perth:20250415T120000
DTSTAMP:20260423T024522
CREATED:20250219T074203Z
LAST-MODIFIED:20250219T074203Z
UID:10000627-1744714800-1744718400@gshpn.com.au
SUMMARY:Project Echo – Palliative Care | Symptom Management – Respiratory | Webinar
DESCRIPTION:ECHO programs offer free interactive online training bringing health professionals and primary care together to share knowledge\, ideas\, and experiences\, fostering a friendly supportive environment. These monthly sessions run for an hour from 11.00am to 12.00pm WA and are open to all health care staff including Nursing\, Allied health\, GP’s\, Community health and Indigenous health workers. \nPalliative Care ECHO is a series of interactive virtual mentoring sessions that addresses a range of palliative care topics. It aims to increase palliative care knowledge\, skills and confidence in health professionals. \nEach 1 hour session consists of: \n\nA 10-minute presentation from a multidisciplinary specialist palliative care team\nA case presentation by a primary care professional\nOpportunities for Q&A and discussion\n\nPalliative Care ECHO Benefits \n\nA virtual network to share palliative care knowledge and experiences\nConnect with multidisciplinary specialist teams\nImprove palliative care knowledge and skills\nIncrease confidence to support someone with a life-limiting illness and their family\nIncrease job satisfaction and promote peer support between health services
URL:https://gshpn.com.au/event/project-echo-palliative-care-symptom-management-respiratory-webinar/
LOCATION:Online event
CATEGORIES:Health
ORGANIZER;CN="Project Echo - Palliative Care":MAILTO:palliativecareecho@uq.edu.au
END:VEVENT
BEGIN:VEVENT
DTSTART;TZID=Australia/Perth:20250429T090000
DTEND;TZID=Australia/Perth:20250429T163000
DTSTAMP:20260423T024522
CREATED:20250311T074039Z
LAST-MODIFIED:20250311T074039Z
UID:10000645-1745917200-1745944200@gshpn.com.au
SUMMARY:Mental Health Challenges in People with Disability
DESCRIPTION:Participants will explore concepts of recovery\, human rights and strengths-based approaches in working with people with complex needs. This engaging course will provide opportunities for reflection and growth as a practitioner in the disability space.\n\n\n\n\n\nThe prevalence of mental health challenges is higher in people with a disability than the general population. Early identification and appropriate response can dramatically alter the outcomes of mental distress. \nTo register click HERE.
URL:https://gshpn.com.au/event/mental-health-challenges-in-people-with-disability/
LOCATION:Western Australia
CATEGORIES:Health
END:VEVENT
BEGIN:VEVENT
DTSTART;TZID=Australia/Perth:20250429T190000
DTEND;TZID=Australia/Perth:20250429T200000
DTSTAMP:20260423T024522
CREATED:20250423T023059Z
LAST-MODIFIED:20250423T023059Z
UID:10000657-1745953200-1745956800@gshpn.com.au
SUMMARY:Winter is coming! Protecting your patients through immunisation + Measles update | Webinar
DESCRIPTION:Join infectious disease expert Prof. Paul Effler for our annual influenza update as we prepare for this year’s flu season. \nThis webinar covers what to expect this winter\, including timings and eligibility as well as updates on influenza\, COVID and RSV. \nWith Measles cases on the rise in WA\, this webinar will also provide a useful update on Measles. \nLearning outcomes: \n1. Identify patients most likely to benefit from influenza vaccination this year\n2. Outline the factors that determine the optimal timing of seasonal influenza vaccinations\n3. Describe the impact of vaccination on serious illness in WA
URL:https://gshpn.com.au/event/winter-is-coming-protecting-your-patients-through-immunisation-measles-update-webinar/
LOCATION:Online event
CATEGORIES:Health
END:VEVENT
END:VCALENDAR