BEGIN:VCALENDAR
VERSION:2.0
PRODID:-//Great Southern Health Professional Network - ECPv6.15.20//NONSGML v1.0//EN
CALSCALE:GREGORIAN
METHOD:PUBLISH
X-ORIGINAL-URL:https://gshpn.com.au
X-WR-CALDESC:Events for Great Southern Health Professional Network
REFRESH-INTERVAL;VALUE=DURATION:PT1H
X-Robots-Tag:noindex
X-PUBLISHED-TTL:PT1H
BEGIN:VTIMEZONE
TZID:Australia/Perth
BEGIN:STANDARD
TZOFFSETFROM:+0800
TZOFFSETTO:+0800
TZNAME:AWST
DTSTART:20230101T000000
END:STANDARD
END:VTIMEZONE
BEGIN:VEVENT
DTSTART;TZID=Australia/Perth:20240905T163000
DTEND;TZID=Australia/Perth:20240905T193000
DTSTAMP:20260423T121704
CREATED:20240704T055025Z
LAST-MODIFIED:20240704T055025Z
UID:10000603-1725553800-1725564600@gshpn.com.au
SUMMARY:Talking About Suicide in General Practice
DESCRIPTION:The Talking About Suicide in General Practice workshop aims to increase GPs skill and confidence in: \n\nRecognising presentations where suicide risk is high;\nUndertaking a detailed risk assessment;\nManagement planning using a collaborative\, team based approach\n\nBy the completion of this program participants will be able to: \n\nundertake a suicide risk assessment effectively\ndevelop a collaborative safety plan\nprovide effective management following a suicide attempt\n\nREGISTER HERE
URL:https://gshpn.com.au/event/talking-about-suicide-in-general-practice-2/
LOCATION:Western Australia
CATEGORIES:Health
ATTACH;FMTTYPE=image/png:https://gshpn.com.au/wp-content/uploads/2024/03/backdog.png
END:VEVENT
BEGIN:VEVENT
DTSTART;TZID=Australia/Perth:20240907T130000
DTEND;TZID=Australia/Perth:20240907T153000
DTSTAMP:20260423T121704
CREATED:20240704T055613Z
LAST-MODIFIED:20240704T055613Z
UID:10000604-1725714000-1725723000@gshpn.com.au
SUMMARY:Suicide Prevention Training for Pharmacists
DESCRIPTION:Suicide has a devastating impact on families\, friends and whole communities. Pharmacists\, due to their role and their accessibility in the community\, have the potential to play a key role in recognising the signs and symptoms of suicide\, restricting means and keeping the person safe until support is available. \nThis suicide Prevention Training for Pharmacists is an interactive\, case-based workshop enabling peer discussion alongside the development of practical skills to implement. \nREGISTER HERE
URL:https://gshpn.com.au/event/suicide-prevention-training-for-pharmacists/
LOCATION:Western Australia
CATEGORIES:Health
ATTACH;FMTTYPE=image/png:https://gshpn.com.au/wp-content/uploads/2024/03/backdog.png
END:VEVENT
END:VCALENDAR