BEGIN:VCALENDAR
VERSION:2.0
PRODID:-//Great Southern Health Professional Network - ECPv6.15.20//NONSGML v1.0//EN
CALSCALE:GREGORIAN
METHOD:PUBLISH
X-WR-CALNAME:Great Southern Health Professional Network
X-ORIGINAL-URL:https://gshpn.com.au
X-WR-CALDESC:Events for Great Southern Health Professional Network
REFRESH-INTERVAL;VALUE=DURATION:PT1H
X-Robots-Tag:noindex
X-PUBLISHED-TTL:PT1H
BEGIN:VTIMEZONE
TZID:Australia/Perth
BEGIN:STANDARD
TZOFFSETFROM:+0800
TZOFFSETTO:+0800
TZNAME:AWST
DTSTART:20230101T000000
END:STANDARD
END:VTIMEZONE
BEGIN:VEVENT
DTSTART;TZID=Australia/Perth:20240716T080000
DTEND;TZID=Australia/Perth:20240717T170000
DTSTAMP:20260423T144314
CREATED:20240502T070659Z
LAST-MODIFIED:20240502T070801Z
UID:10000597-1721116800-1721235600@gshpn.com.au
SUMMARY:Mental Health First Aid Course I Perth
DESCRIPTION:This internationally recognised two-day crisis response course is the mental health equivalent of standard First Aid and will equip participants with the skills to recognise and respond appropriately\, until professional help arrives. \nTopics include \n\nUnderstanding mental health\, including diagnoses\, prevalence and common misconceptions.\nSymptoms and causes of depression\, anxiety\, psychosis and substance misuse.\nHow to provide initial support to adults who are experiencing a mental health crisis.\nCrisis First Aid for: suicidal behaviour\, panic attacks\, aggressive behaviour\, self-harm\, acute psychosis.\nResponding to the effects of traumatic events and drug and alcohol misuse.\n\n\n\n\n\nThis two-day course includes \n\nEngaging\, up-to-date materials.\nTake-home Mental Health First Aid Manual.\nAll day catering and beverages – with dietary needs catered for.\nCertificate of attendance.\nOptional post-course assessment and formal accreditation as a Mental Health First Aider\, valid for three years.\n\nTo book click HERE. 
URL:https://gshpn.com.au/event/mental-health-first-aid-course-i-perth/
LOCATION:Western Australia
CATEGORIES:Health
END:VEVENT
END:VCALENDAR