BEGIN:VCALENDAR
VERSION:2.0
PRODID:-//Great Southern Health Professional Network - ECPv6.15.20//NONSGML v1.0//EN
CALSCALE:GREGORIAN
METHOD:PUBLISH
X-ORIGINAL-URL:https://gshpn.com.au
X-WR-CALDESC:Events for Great Southern Health Professional Network
REFRESH-INTERVAL;VALUE=DURATION:PT1H
X-Robots-Tag:noindex
X-PUBLISHED-TTL:PT1H
BEGIN:VTIMEZONE
TZID:Australia/Perth
BEGIN:STANDARD
TZOFFSETFROM:+0800
TZOFFSETTO:+0800
TZNAME:AWST
DTSTART:20230101T000000
END:STANDARD
END:VTIMEZONE
BEGIN:VEVENT
DTSTART;VALUE=DATE:20240504
DTEND;VALUE=DATE:20240506
DTSTAMP:20260423T172711
CREATED:20240220T093703Z
LAST-MODIFIED:20240220T093703Z
UID:10000580-1714780800-1714953599@gshpn.com.au
SUMMARY:Rural Outdoor Adventure Race (ROAR) I Kings Park
DESCRIPTION:This event provides an opportunity for junior doctors and medical students to learn\, experience and practice elements of emergency care in a stimulating wilderness environment around King’s Park in Western Australia. Your team will work together under Perth’s best emergency physicians to diagnose\, stabilise and ‘save lives’. \nThe teaching and learning priorities for each scenario are: \n\nScene safety and management of the environment\nA structured approach to the assessment of the critically ill patient (DRSABCDE)\nPrioritised supportive and specific management of the clinical conditions\nStabilisation and transport planning including basic necessities of the patient and group\nLeadership\, teamwork and communication\n\nInclusions \n\n1.5 day education program\nMorning tea\, lunch & afternoon tea Saturday\nMorning tea & lunch Sunday\nEvent handbook\nRural Health West backpack\nRural Health West water bottle\nRural Health West hat\n\nEligibility: Final year medical students\, Interns (PGY1)\, PGY2 and PGY3. \nLength: 1.5 days \nCost: $200 (Inc. GST) \nClick HERE for further information.
URL:https://gshpn.com.au/event/rural-outdoor-adventure-race-roar-i-kings-park/
LOCATION:Kings Park\, Fraser Ave\, West Perth\, Western Australia\, Australia
CATEGORIES:Health
ORGANIZER;CN="Rural Health West":MAILTO:info@ruralhealthwest.com.au
END:VEVENT
BEGIN:VEVENT
DTSTART;TZID=Australia/Perth:20240516T080000
DTEND;TZID=Australia/Perth:20240519T170000
DTSTAMP:20260423T172711
CREATED:20240220T022403Z
LAST-MODIFIED:20240220T062104Z
UID:10000572-1715846400-1716138000@gshpn.com.au
SUMMARY:Rural and Remote Retrieval Weekend 2024 I Karijini 
DESCRIPTION:Join us in one of Australia’s greatest and most spectacular landscapes – the truly magnificent Karijini National Park.\nBy day be spellbound by the contrasting Pilbara blue skies against the classic red rock formations\, as you wind your way through gorges to undertake emergency medical scenarios.  At night\, socialise under a canopy of stars with fellow participants and family members. \nThis opportunity to experience the remote\, beautiful\, rugged\, and incredibly fascinating Karijini National Park is one not to be missed. \nAbout the event\nThe Rural and Remote Retrieval Weekend provides participants with the opportunity to learn about the management of medical emergencies in a remote environment with limitations in equipment\, personnel and resources. \n\nParticipants learn in a supportive environment that encourages a relevant\, practical and self-directed approach to learning.\nParticipants develop their practical skills and professional abilities such as teaching\, teamwork\, leadership and dealing with stress and uncertainty.\nParticipants have the opportunity to network with colleagues in a unique setting.\n\nFor more information\, you can visit the event website HERE. 
URL:https://gshpn.com.au/event/rural-and-remote-retrieval-weekend-2024-i-karijini/
LOCATION:Western Australia
CATEGORIES:Health
ATTACH;FMTTYPE=image/png:https://gshpn.com.au/wp-content/uploads/2024/02/RRR.png
END:VEVENT
BEGIN:VEVENT
DTSTART;VALUE=DATE:20240517
DTEND;VALUE=DATE:20240518
DTSTAMP:20260423T172711
CREATED:20240202T052945Z
LAST-MODIFIED:20240220T062100Z
UID:10000576-1715904000-1715990399@gshpn.com.au
SUMMARY:Emergencies and Clinical Healthcare Scenarios (PEaCHS) - Albany
DESCRIPTION:This Rural Health West CPD workshop is a one-day workshop in paediatric emergency scenarios and skills. It will give delegates real-life examples and the opportunity to manage sick or injured children in a safe environment. \nThe workshop content includes: \n\nHands-on simulation – practise common scenarios and structured care\nShort presentations by experienced paediatric emergency physicians\nComprehensive handbook of lecture materials and practical skills\n‘Resuscitation reminders’ card for your ID badge clip\n\nEligibility\nGP Obstetricians\, ED doctors and nurses and GPs. Priority is given to those working in the local region. \nRegistration\nOnline registration: https://ruralhealthwest.eventsair.com/2024-peachs-albany/registration \nRegistration fee\nCost: $350 – $440 (Inc GST)
URL:https://gshpn.com.au/event/emergencies-and-clinical-healthcare-scenarios-peachs-albany/
LOCATION:Western Australia
CATEGORIES:Health
ATTACH;FMTTYPE=image/jpeg:https://gshpn.com.au/wp-content/uploads/2024/02/paediatric.jpg
END:VEVENT
BEGIN:VEVENT
DTSTART;TZID=Australia/Perth:20240517T080000
DTEND;TZID=Australia/Perth:20240517T170000
DTSTAMP:20260423T172711
CREATED:20240220T022054Z
LAST-MODIFIED:20240220T062056Z
UID:10000578-1715932800-1715965200@gshpn.com.au
SUMMARY:Paediatric Emergencies and Clinical Healthcare Scenarios I Albany  
DESCRIPTION:This Rural Health West CPD workshop is a one-day workshop in paediatric emergency scenarios and skills. It will give delegates real-life examples and the opportunity to manage sick or injured children in a safe environment. \nThe workshop content includes: \n\nHands-on simulation – practise common scenarios and structured care\nShort presentations by experienced paediatric emergency physicians\nComprehensive handbook of lecture materials and practical skills\n‘Resuscitation reminders’ card for your ID badge clip\n\nEligibility: GP Obstetricians\, ED doctors and nurses and GPs. Priority is given to those working in the local region. \nCost:\n$350-$440 (incl GST) \nAccreditation:\n5 Educational Activity and 3 Reviewing Performance CPD Hours with the Royal Australian College of General Practitioners\n2 Additional CPD Requirements\, 5 Educational Activity and 3 Outcome Measurement PDP Hours. 6 Emergency Medicine and 6 Obstetric and Gynaecology MOPS Hours with the Australian College of Rural and Remote Medicine for continuing professional development hours for the 2023-2025 triennium. \nTo register click HERE. 
URL:https://gshpn.com.au/event/paediatric-emergencies-and-clinical-healthcare-scenarios-i-albany/
LOCATION:Western Australia
CATEGORIES:Health
ATTACH;FMTTYPE=image/png:https://gshpn.com.au/wp-content/uploads/2024/02/paeds.png
END:VEVENT
BEGIN:VEVENT
DTSTART;VALUE=DATE:20240524
DTEND;VALUE=DATE:20240527
DTSTAMP:20260423T172711
CREATED:20240220T094322Z
LAST-MODIFIED:20240220T094322Z
UID:10000581-1716508800-1716767999@gshpn.com.au
SUMMARY:Rural Obstetrics and Gynaecology Forum 2024 I Perth
DESCRIPTION:This forum is part of the WA Country Health Service and Rural Health West Resident Specialist and Procedural GP Education Series. \nThe one and a half day Rural Obstetrics and Gynaecology Forum 2024\, will include optional Friday workshops\, small problem-based discussions\, lectures\, and simulation sessions delivered concurrently and facilitated by experienced specialists.  The forum will provide an opportunity to network with fellow colleagues. \nClick HERE for further information and to register.
URL:https://gshpn.com.au/event/rural-obstetrics-and-gynaecology-forum-2024-i-perth/
LOCATION:Western Australia
CATEGORIES:Health
ORGANIZER;CN="Rural Health West":MAILTO:info@ruralhealthwest.com.au
END:VEVENT
BEGIN:VEVENT
DTSTART;TZID=Australia/Perth:20240524T080000
DTEND;TZID=Australia/Perth:20240526T170000
DTSTAMP:20260423T172711
CREATED:20240328T055529Z
LAST-MODIFIED:20240328T055529Z
UID:10000594-1716537600-1716742800@gshpn.com.au
SUMMARY:Rural Obstetrics and Gynaecology Forum 2024
DESCRIPTION:The one and a half day Rural Obstetrics and Gynaecology Forum 2024\, will include optional Friday workshops\, small problem-based discussions\, lectures and simulation sessions delivered concurrently and facilitated by experienced specialists.  The forum will provide an opportunity to network with fellow colleagues. \nThe forum has limited places.  Travel subsidies will apply for all eligible delegates living and working in rural and remote WA. \nFetal Surveillance Education Program (FSEP)\nDate: Friday 24 May 2024\nCost: $330.00 \nNEW! – Ultrasound Workshop (Late Obstetrics) \nAn engaging and hands-on Ultrasound Workshop tailored specifically for rural General Practitioner Obstetricians. This one-day workshop aims to enhance late pregnancy scanning skills and knowledge\, empowering rural healthcare providers to provide high-quality ultrasound services within their communities. Topics that will be covered include fluid\, placenta and cervix scanning\, measuring biometry\, reviewing of images and much more. Each workshop participant will get approximately four hours of scanning practise\, as well as four lecture sessions to consolidate and further knowledge.\nDate: Friday 24 May 2024\nCost: $1\,100.00 \nEligibility\nOpen to all currently practicing GP Obstetricians\, Obstetric and Gynaecology Specialists and GP Registrars with Basic or Advanced DRANZCOG \nRegistration\nTo register click HERE.
URL:https://gshpn.com.au/event/rural-obstetrics-and-gynaecology-forum-2024/
LOCATION:Western Australia
CATEGORIES:Health
END:VEVENT
END:VCALENDAR