BEGIN:VCALENDAR
VERSION:2.0
PRODID:-//Great Southern Health Professional Network - ECPv6.15.20//NONSGML v1.0//EN
CALSCALE:GREGORIAN
METHOD:PUBLISH
X-WR-CALNAME:Great Southern Health Professional Network
X-ORIGINAL-URL:https://gshpn.com.au
X-WR-CALDESC:Events for Great Southern Health Professional Network
REFRESH-INTERVAL;VALUE=DURATION:PT1H
X-Robots-Tag:noindex
X-PUBLISHED-TTL:PT1H
BEGIN:VTIMEZONE
TZID:Australia/Perth
BEGIN:STANDARD
TZOFFSETFROM:+0800
TZOFFSETTO:+0800
TZNAME:AWST
DTSTART:20230101T000000
END:STANDARD
END:VTIMEZONE
BEGIN:VEVENT
DTSTART;TZID=Australia/Perth:20240416T190000
DTEND;TZID=Australia/Perth:20240416T200000
DTSTAMP:20260423T185239
CREATED:20240320T053909Z
LAST-MODIFIED:20240320T053909Z
UID:10000591-1713294000-1713297600@gshpn.com.au
SUMMARY:Winter preparedness webinar: Influenza update
DESCRIPTION:This webinar will explore what we can expect for the 2024 flu season and a brief update on the latest in COVID. We’ll cover what to expect this flu season\, including timings and eligibility. We will also look at the up-to-date health department data\, the flu vaccine program and provide an update on COVID boosters and antivirals. \nYou’ll have the opportunity to ask questions during the Q&A. If you have a question prior\, you can submit it upon registration. \n\nProf Paul Effler is the Senior Medical Advisor\, Communicable Disease Control Directorate\, Department of Health\, Western Australia.\nHosted by RACGP WA Chair Dr Ramya Raman.\n\nThis webinar is delivered in partnership with the Department of Health Western Australia. \nTo register click HERE. 
URL:https://gshpn.com.au/event/winter-preparedness-webinar-influenza-update/
LOCATION:Western Australia
CATEGORIES:Health
ATTACH;FMTTYPE=image/png:https://gshpn.com.au/wp-content/uploads/2024/03/flu.png
END:VEVENT
BEGIN:VEVENT
DTSTART;TZID=Australia/Perth:20240418T183000
DTEND;TZID=Australia/Perth:20240418T203000
DTSTAMP:20260423T185239
CREATED:20240320T053402Z
LAST-MODIFIED:20240320T053434Z
UID:10000590-1713465000-1713472200@gshpn.com.au
SUMMARY:Stroke Education Evening
DESCRIPTION:The Great Southern Health Professionals Network and Regional Training Hubs (RTH) present an evening\nwith Dr Manjula Clef on case studies in stroke management. Dr Clef will then be joined by allied health\nprofessionals to deliver a panel style Q&A session. This event is FREE for members of the Great Southern\nHealth Professionals Network. \nTo register click HERE.
URL:https://gshpn.com.au/event/9192/
LOCATION:Western Australia
CATEGORIES:Health
ATTACH;FMTTYPE=image/png:https://gshpn.com.au/wp-content/uploads/2024/03/stroke.png
END:VEVENT
BEGIN:VEVENT
DTSTART;TZID=Australia/Perth:20240420T090000
DTEND;TZID=Australia/Perth:20240420T150000
DTSTAMP:20260423T185239
CREATED:20240320T054553Z
LAST-MODIFIED:20240320T054553Z
UID:10000592-1713603600-1713625200@gshpn.com.au
SUMMARY:Dealing with Depression  in Rural Australia Blended Webinar
DESCRIPTION:Depression is a common condition frequently managed in primary care. Identifying and managing depression in a rural context presents a unique set of challenges for health professionals providing mental health care in their communities. Dealing with Depression in Rural Australia is a highly interactive\, multidisciplinary program developed specifically to address the needs of clinicians delivering health care for people presenting with depression in a rural setting. Using a case-based problem solving format\, the program outlines a practical framework for assessment and management planning readily applicable to primary care. \nTo register click HERE. 
URL:https://gshpn.com.au/event/dealing-with-depression-in-rural-australia-blended-webinar/
LOCATION:Western Australia
CATEGORIES:Health
ATTACH;FMTTYPE=image/png:https://gshpn.com.au/wp-content/uploads/2024/03/depression.png
END:VEVENT
END:VCALENDAR