BEGIN:VCALENDAR
VERSION:2.0
PRODID:-//Great Southern Health Professional Network - ECPv6.15.20//NONSGML v1.0//EN
CALSCALE:GREGORIAN
METHOD:PUBLISH
X-ORIGINAL-URL:https://gshpn.com.au
X-WR-CALDESC:Events for Great Southern Health Professional Network
REFRESH-INTERVAL;VALUE=DURATION:PT1H
X-Robots-Tag:noindex
X-PUBLISHED-TTL:PT1H
BEGIN:VTIMEZONE
TZID:Australia/Perth
BEGIN:STANDARD
TZOFFSETFROM:+0800
TZOFFSETTO:+0800
TZNAME:AWST
DTSTART:20230101T000000
END:STANDARD
END:VTIMEZONE
BEGIN:VEVENT
DTSTART;TZID=Australia/Perth:20240210T150000
DTEND;TZID=Australia/Perth:20240210T180000
DTSTAMP:20260423T213134
CREATED:20230915T074716Z
LAST-MODIFIED:20240220T062243Z
UID:10000565-1707577200-1707588000@gshpn.com.au
SUMMARY:Welcome to 2024 Sundowner
DESCRIPTION:The Great Southern Health Professionals Network would like to invite you and your family to our welcome to 2024 sundowner event.\nThis event is FREE for members of the Great Southern Health Professionals Network.\n\nA complimentary bus will depart Boatshed Markets carpark at 2.30pm and will depart Boston Brewing Co.\, for the return journey at 6.00pm.\n\nPlaces are limited so booking is essential. To register GO TO website 
URL:https://gshpn.com.au/event/welcome-to-2024-sundowner/
LOCATION:Western Australia
CATEGORIES:Health
ATTACH;FMTTYPE=image/jpeg:https://gshpn.com.au/wp-content/uploads/2023/09/GSHPN-Welcome-to-2024-Sundowner-10-02-2024-WEB_Event-page.jpg
END:VEVENT
BEGIN:VEVENT
DTSTART;TZID=Australia/Perth:20240215T170000
DTEND;TZID=Australia/Perth:20240215T180000
DTSTAMP:20260423T213134
CREATED:20240130T054414Z
LAST-MODIFIED:20240220T062222Z
UID:10000575-1708016400-1708020000@gshpn.com.au
SUMMARY:Immunisation : Cold Chain Management FREE Webinar
DESCRIPTION:WA Primary Health Alliance is pleased to host and present the fourth webinar in the immunisation series. \nEvent topics: \nThis webinar on cold chain management will give you up to date and practical information needed for vaccine storage and management. \n\nGain knowledge and understanding of the strive for five guidelines.\nBetter understanding of cold chain management processes and requirements.\nCorrect procedures of vaccination storage\n\nSpeakers: \n\nAdele Hyslop RN\, Immunisation Primary Care Project Officer\, WA Primary Health Alliance\nJodie Robins RN\, Program Coordinator Immunisation and Cancer Screening\, WA Primary HealthAlliance\n\nTo Register click here 
URL:https://gshpn.com.au/event/immunisation-cold-chain-management-free-webinar/
LOCATION:Western Australia
CATEGORIES:Health
ATTACH;FMTTYPE=image/png:https://gshpn.com.au/wp-content/uploads/2024/01/cold-chain.png
END:VEVENT
BEGIN:VEVENT
DTSTART;VALUE=DATE:20240219
DTEND;VALUE=DATE:20240220
DTSTAMP:20260423T213134
CREATED:20240213T074755Z
LAST-MODIFIED:20240220T062217Z
UID:10000577-1708300800-1708387199@gshpn.com.au
SUMMARY:Health Workforce Scholarship Program ( HWSP) - Round 14
DESCRIPTION:Health Workforce Scholarship Program (HWSP) Round 14 is Now OPEN…\n\nThe round will be open for three weeks from Monday 19 February 2024 to 10 March 2024. All eligibility information including the guidelines is on the Rural Health West website https://ruralhealthwest.com.au/…/health-workforce…/
URL:https://gshpn.com.au/event/health-workforce-scholarship-program-hwsp-round-14/
LOCATION:Western Australia
CATEGORIES:Health
ATTACH;FMTTYPE=image/png:https://gshpn.com.au/wp-content/uploads/2024/02/HWSP-HPN-event-image-1200pxW-2.png
END:VEVENT
BEGIN:VEVENT
DTSTART;TZID=Australia/Perth:20240223T080000
DTEND;TZID=Australia/Perth:20240223T160000
DTSTAMP:20260423T213134
CREATED:20231128T043439Z
LAST-MODIFIED:20240220T062145Z
UID:10000475-1708675200-1708704000@gshpn.com.au
SUMMARY:Emergency Airway Skills Management | Bunbury
DESCRIPTION:This Rural Health West CPD workshop is designed to assist health professionals to develop and practise skills essential in unexpected crises\, particularly with problem airways. Delivered in WA Country Health Service facilities\, this workshop has a heavy emphasis on teamwork and the organisation of medical emergency teams incorporating presentations\, skill stations and scenario-based crises with simulation manikins (SimMan and baby). \nEligibility: GP anaesthetists and theatre staff. Priority is given to those working in the local region. Should places be available\, emergency department doctors and nurses are invited to register. \nLength: One day – 8.00am-4.30pm \nCost: $50\nThe cost of this workshop is subsidised by WA Country Health Service \nRegister HERE.
URL:https://gshpn.com.au/event/emergency-airway-skills-management-bunbury/
LOCATION:Western Australia
CATEGORIES:Health
ATTACH;FMTTYPE=image/png:https://gshpn.com.au/wp-content/uploads/2023/11/airways.png
END:VEVENT
BEGIN:VEVENT
DTSTART;TZID=Australia/Perth:20240223T163000
DTEND;TZID=Australia/Perth:20240223T193000
DTSTAMP:20260423T213134
CREATED:20231219T015102Z
LAST-MODIFIED:20240220T090414Z
UID:10000568-1708705800-1708716600@gshpn.com.au
SUMMARY:WA Rural Health Long Service Awards 2024
DESCRIPTION:Long Service Awards are presented to general practitioners and medical specialists who have served rural and regional Western Australia for over 20 years.  These awards recognise the extensive commitment to providing health services\, often to many generations of the same family and their continued involvement in the community. \nNominations are not required for this category. The recipients of Long Service Awards are identified through the Rural Health West database and will be notified personally. \nAwards for 20\, 30 and 40 years of service will be presented on Friday 23 February 2024 at a special Long Service Awards Ceremony and Cocktail Function. \nFor more information click HERE.
URL:https://gshpn.com.au/event/wa-rural-health-long-service-awards-2024/
LOCATION:Western Australia
CATEGORIES:Health
ATTACH;FMTTYPE=image/png:https://gshpn.com.au/wp-content/uploads/2023/12/long-service.png
END:VEVENT
END:VCALENDAR