BEGIN:VCALENDAR
VERSION:2.0
PRODID:-//Great Southern Health Professional Network - ECPv6.15.20//NONSGML v1.0//EN
CALSCALE:GREGORIAN
METHOD:PUBLISH
X-WR-CALNAME:Great Southern Health Professional Network
X-ORIGINAL-URL:https://gshpn.com.au
X-WR-CALDESC:Events for Great Southern Health Professional Network
REFRESH-INTERVAL;VALUE=DURATION:PT1H
X-Robots-Tag:noindex
X-PUBLISHED-TTL:PT1H
BEGIN:VTIMEZONE
TZID:Australia/Perth
BEGIN:STANDARD
TZOFFSETFROM:+0800
TZOFFSETTO:+0800
TZNAME:AWST
DTSTART:20220101T000000
END:STANDARD
END:VTIMEZONE
BEGIN:VEVENT
DTSTART;TZID=Australia/Perth:20231001T080000
DTEND;TZID=Australia/Perth:20231007T170000
DTSTAMP:20260424T024017
CREATED:20230922T045305Z
LAST-MODIFIED:20240220T062436Z
UID:10000566-1696147200-1696698000@gshpn.com.au
SUMMARY:Borderline Personality Disorder Awareness Week
DESCRIPTION:BPD Awareness Week has been declared the first week of October each year and aims to raise awareness about borderline personality disorder (BPD)\, a stigmatised and often discriminated against complex mental illness. \nWe do this by providing resources and education in an easily accessed and understood way. \nWe are seeking funds to refresh the website and develop new resources for our new 2023 campaign. These Resources have been developed by a national advocate who is a graphic designer and has a lived experience of BPD. \nSee our campaigns http://www.bpdawareness.com.au \n 
URL:https://gshpn.com.au/event/borderline-personality-disorder-awareness-week/
LOCATION:Western Australia
CATEGORIES:Health
ATTACH;FMTTYPE=image/png:https://gshpn.com.au/wp-content/uploads/2023/09/Capture-2.png
END:VEVENT
BEGIN:VEVENT
DTSTART;VALUE=DATE:20231010
DTEND;VALUE=DATE:20231011
DTSTAMP:20260424T024017
CREATED:20230915T071158Z
LAST-MODIFIED:20240220T062430Z
UID:10000563-1696896000-1696982399@gshpn.com.au
SUMMARY:World Mental Health Day
DESCRIPTION:Looking after your mental health is more important that ever ! As health professionals we all strive to help others but also have to remember to take time out for our self care and mental healthiness.\nFor tips and activities click HERE https://lookafteryourmentalhealthaustralia.org.au/register/
URL:https://gshpn.com.au/event/world-mental-health-day/
LOCATION:Western Australia
CATEGORIES:Health
ATTACH;FMTTYPE=image/png:https://gshpn.com.au/wp-content/uploads/2023/09/Capture-1.png
END:VEVENT
BEGIN:VEVENT
DTSTART;VALUE=DATE:20231011
DTEND;VALUE=DATE:20231012
DTSTAMP:20260424T024017
CREATED:20230930T000747Z
LAST-MODIFIED:20240220T061926Z
UID:10000567-1696982400-1697068799@gshpn.com.au
SUMMARY:Diabetes WA Self Management Workshops - Great Southern
DESCRIPTION:Just been diagnosed? About to start a new medication? Need to get on track? Then come along to a free diabetes workshop. As part of your NDSS registration you are entitled to attend Diabetes WA’s workshops for free. \nCarbsmart Workshop \nFor people living with type 1 diabetes\, type 2 diabetes or gestational diabetes. CarbSmart will help you enjoy quality carbohydrates in a way that suits you and your diabetes. \nFor more information or to book into anyof these workshops\, visit events.ndss.com.au call 1300 001 880 or email bookings@diabeteswa.com.au \n 
URL:https://gshpn.com.au/event/diabetes-wa-self-management-workshops-great-southern/
LOCATION:Western Australia
CATEGORIES:Health
ATTACH;FMTTYPE=image/png:https://gshpn.com.au/wp-content/uploads/2023/09/diabestes.png
END:VEVENT
BEGIN:VEVENT
DTSTART;TZID=Australia/Perth:20231011T180000
DTEND;TZID=Australia/Perth:20231011T193000
DTSTAMP:20260424T024017
CREATED:20231010T053436Z
LAST-MODIFIED:20240220T062425Z
UID:10000570-1697047200-1697052600@gshpn.com.au
SUMMARY:Primary care virtual workshop
DESCRIPTION:CVD Prevention streamlined. A roadmap to better identify\, assess and manage CVD risk in the great southern region. \nDon’t miss this tailored educational experience\, joined live by leading Experts. \nTo register click HERE. \n 
URL:https://gshpn.com.au/event/primary-care-virtual-workshop/
LOCATION:Western Australia
CATEGORIES:Health
ATTACH;FMTTYPE=image/png:https://gshpn.com.au/wp-content/uploads/2023/10/primary-care.png
END:VEVENT
BEGIN:VEVENT
DTSTART;VALUE=DATE:20231012
DTEND;VALUE=DATE:20231013
DTSTAMP:20260424T024017
CREATED:20230801T045037Z
LAST-MODIFIED:20230801T045037Z
UID:10000547-1697068800-1697155199@gshpn.com.au
SUMMARY:ARC Advanced Life Support Albany
DESCRIPTION:An Australian Resuscitation Council (ARC) accredited course\, this two day program aims to teach the theory and practical skills to effectively manage cardio/respiratory arrest\, peri-arrest situations and special circumstances\, and to prepare senior members of a multidisciplinary team to manage the patient until transfer to a critical care area if possible. The course focuses on achieving advanced resuscitation competencies and is also designed to develop leadership and team skills in managing such emergencies. \nCourse Content:\n• Recognition\, assessment and management of the deteriorating patient using a structured ABCDE approach\n• Treat cardiac and/or respiratory arrest\, including manual defibrillation\n• Management of life-threatening arrhythmias\n• Preparing and planning post resuscitation care\n• Care for the deteriorating patient or patient in cardiac arrest in circumstances such as asthma\, anaphylaxis\, and pregnancy\n• Lead a team\, work as a team member\, and use structured communication skills including giving an effective handover\n• Candidates who successfully complete the program receive an ARC ALS2 Provider certificate\, valid for 4 years. \nRegister before 30th July HERE 
URL:https://gshpn.com.au/event/arc-advanced-life-support-albany/
LOCATION:WA\, Australia
CATEGORIES:Health
END:VEVENT
BEGIN:VEVENT
DTSTART;TZID=Australia/Perth:20231018T140000
DTEND;TZID=Australia/Perth:20231018T170000
DTSTAMP:20260424T024017
CREATED:20230915T030816Z
LAST-MODIFIED:20240220T062419Z
UID:10000562-1697637600-1697648400@gshpn.com.au
SUMMARY:FREE Perinatal Mental Health Information Session - Mt Barker
DESCRIPTION:A free session for expectant mothers\, supporting family\, friends and significant others and community members who are interested. \nRSVP is required by contacting WACHS on (08) 9851 2661 or EMAIL Tracy.Waddell@health.wa.gov.au
URL:https://gshpn.com.au/event/free-perinatal-mental-health-information-session-mt-barker/
LOCATION:Western Australia
CATEGORIES:Health
ATTACH;FMTTYPE=image/png:https://gshpn.com.au/wp-content/uploads/2023/09/Capture.png
END:VEVENT
BEGIN:VEVENT
DTSTART;TZID=Australia/Perth:20231019T090000
DTEND;TZID=Australia/Perth:20231019T160000
DTSTAMP:20260424T024017
CREATED:20230831T060225Z
LAST-MODIFIED:20240220T062414Z
UID:10000557-1697706000-1697731200@gshpn.com.au
SUMMARY:Youth in Distress: Blended Learning
DESCRIPTION:With a focus on self-harm and suicide in adolescence\, this program will assist clinicians to manage youth in distress\, self-harm and suicidality. \nThe program has been designed to build on the current level of skills of participants and to further develop confidence in undertaking risk assessment and safety planning for youth in distress. \nModule 1 will need to be completed prior to the commencement of module 2. CPD certificates will be given after completion of all 4 modules in their entirety. \n\nTo Register click HERE
URL:https://gshpn.com.au/event/youth-in-distress-blended-learning/
LOCATION:Western Australia
CATEGORIES:Health
ATTACH;FMTTYPE=image/png:https://gshpn.com.au/wp-content/uploads/2023/08/SUI.png
END:VEVENT
BEGIN:VEVENT
DTSTART;VALUE=DATE:20231020
DTEND;VALUE=DATE:20231021
DTSTAMP:20260424T024017
CREATED:20230801T045555Z
LAST-MODIFIED:20230801T045555Z
UID:10000548-1697760000-1697846399@gshpn.com.au
SUMMARY:Practical Obstetric Multi-Professional Training (PROMPT) | Albany
DESCRIPTION:The PROMPT program is delivered in Australia under license from the PROMPT Maternity Foundation UK PROMPT is an evidence-based\, multi-professional obstetric training package for all clinicians required to respond to obstetric emergencies in maternity hospitals. The program aims to reduce preventable harm for mothers and their babies which is best achieved by training staff in their local\, real-time working clinical environment. \nThe PROMPT training package improves teamwork and consists of interactive lectures\, drills and workshops\, providing hands-on experience of practical skills in simulated obstetric emergency situations. The key components of PROMPT training are that it is multi-professional and locally situated using the whole team in their usual response roles. \nEligibility: All Maternity Care practitioners working in a maternity hospital – Midwives\, Obstetricians\, GPAs\, GPOs and those who are required to respond to maternity emergencies including ward nurses\, after hours managers and theatre staff. Obstetric Emergency Training is required every three years for GP’s/Obstetricians and Midwifes. \nCost: No cost for WACHS staff \nExpression of Interest: To register your expression of interest application\, click here. EOI applications close on the 4 August 2023. Successful candidates will receive a course offer via email shortly after EOI applications close. \nFor further information\, please email WACHS.PROMPT@health.wa.gov.au\, telephone 6553 0856 or visit www.wacountry.health.wa.gov.au. \n 
URL:https://gshpn.com.au/event/practical-obstetric-multi-professional-training-prompt-albany/
LOCATION:WA\, Australia
CATEGORIES:Health
ATTACH;FMTTYPE=image/png:https://gshpn.com.au/wp-content/uploads/2023/08/prompt.png
END:VEVENT
BEGIN:VEVENT
DTSTART;TZID=Australia/Perth:20231028T073000
DTEND;TZID=Australia/Perth:20231028T173000
DTSTAMP:20260424T024017
CREATED:20230905T054435Z
LAST-MODIFIED:20240220T062409Z
UID:10000560-1698478200-1698514200@gshpn.com.au
SUMMARY:Western Trauma Course - Albany
DESCRIPTION:The course includes : Mechanism of Injury\, Assessment and Management of Adult & Paediatric Trauma\, Burns\, Airway an Thoracic trauma skills and more..\n\n\nTO REGISTER CONTACT WATTEU on (08) 6457 3699 or email WATTEU@health.wa.gov.au
URL:https://gshpn.com.au/event/western-trauma-course-albany/
LOCATION:Western Australia
CATEGORIES:Health
ATTACH;FMTTYPE=image/png:https://gshpn.com.au/wp-content/uploads/2023/09/save-lives.png
END:VEVENT
BEGIN:VEVENT
DTSTART;TZID=Australia/Perth:20231031T090000
DTEND;TZID=Australia/Perth:20231103T163000
DTSTAMP:20260424T024017
CREATED:20230817T070534Z
LAST-MODIFIED:20240220T062404Z
UID:10000553-1698742800-1699029000@gshpn.com.au
SUMMARY:WA Rural and Remote Mental Health Conference
DESCRIPTION:The WA Rural and Remote Mental Health Conference has been hosted by WACHS since the event’s inauguration at Northam in 1992 and 2023 marks the 30th year for the conference \nThe Conference title for 2023 is Looking Beyond I People\, Resilience and Innovation. \nTo register CLICK HERE 
URL:https://gshpn.com.au/event/wa-rural-and-remote-mental-health-conference/
LOCATION:Western Australia
CATEGORIES:Health
ATTACH;FMTTYPE=image/jpeg:https://gshpn.com.au/wp-content/uploads/2023/08/WARRMHC-2023-e-B_MU-900px_F.jpg
END:VEVENT
END:VCALENDAR