BEGIN:VCALENDAR
VERSION:2.0
PRODID:-//Great Southern Health Professional Network - ECPv6.15.20//NONSGML v1.0//EN
CALSCALE:GREGORIAN
METHOD:PUBLISH
X-ORIGINAL-URL:https://gshpn.com.au
X-WR-CALDESC:Events for Great Southern Health Professional Network
REFRESH-INTERVAL;VALUE=DURATION:PT1H
X-Robots-Tag:noindex
X-PUBLISHED-TTL:PT1H
BEGIN:VTIMEZONE
TZID:Australia/Perth
BEGIN:STANDARD
TZOFFSETFROM:+0800
TZOFFSETTO:+0800
TZNAME:AWST
DTSTART:20220101T000000
END:STANDARD
END:VTIMEZONE
BEGIN:VEVENT
DTSTART;VALUE=DATE:20230901
DTEND;VALUE=DATE:20230902
DTSTAMP:20260424T035037
CREATED:20230801T044755Z
LAST-MODIFIED:20230801T044755Z
UID:10000546-1693526400-1693612799@gshpn.com.au
SUMMARY:Paediatric Life Support Albany
DESCRIPTION:A one day primer course focused on the first ten minutes of emergency paediatric care. The Paediatric Life Support (PLS) Course covers the basics of emergency paediatric management\, using the structured approach as taught on the three day Advanced Paediatric Life Support (APLS) Course. Consistent with the latest clinical practice in Australia and New Zealand\, information is presented in lectures\, workshops\, practical sessions and hands on emergency scenarios over a single day. All PLS instructors are leading practitioners in the field of paediatric care. Candidates also receive a comprehensive manual\, and are tested on key components. \nCourse Content:\n• Basic Life Support\n• Airway management\n• Cardiac Rhythm recognition and defibrillation\n• Preparing and planning post resuscitation care\n• Recognition of the seriously injured and seriously ill child \nCost: $300 \nClick HERE for more info
URL:https://gshpn.com.au/event/paediatric-life-support-albany/
LOCATION:WA\, Australia
CATEGORIES:Health
END:VEVENT
BEGIN:VEVENT
DTSTART;TZID=Australia/Perth:20230904T080000
DTEND;TZID=Australia/Perth:20230908T170000
DTSTAMP:20260424T035037
CREATED:20230815T025533Z
LAST-MODIFIED:20240220T062524Z
UID:10000551-1693814400-1694192400@gshpn.com.au
SUMMARY:Women's Health Week
DESCRIPTION:This year’s theme is Grow your knowledge\, and is all about supporting women to make informed decisions about their health with information that is easy to understand. \nLearn something new about women’s health in September through the many events\, celebrations and discussions happening online and in-person. \nFor more information on events and ways to get involved CLICK HERE
URL:https://gshpn.com.au/event/womens-health-week/
LOCATION:WA\, Australia
CATEGORIES:Health
ATTACH;FMTTYPE=image/jpeg:https://gshpn.com.au/wp-content/uploads/2023/08/2-National-Womens-Health-Week-2023-380x214-1.jpg
END:VEVENT
BEGIN:VEVENT
DTSTART;TZID=Australia/Perth:20230905T080000
DTEND;TZID=Australia/Perth:20230905T170000
DTSTAMP:20260424T035037
CREATED:20230905T032249Z
LAST-MODIFIED:20240220T062518Z
UID:10000559-1693900800-1693933200@gshpn.com.au
SUMMARY:Grant Application for Community Falls Prevention Open NOW
DESCRIPTION:Applications are now open for Stay On Your Feet® Move Your Body grants for the delivery of community-based falls prevention projects in WA throughout March to May 2024. \nThe Move Your Body campaign and grants focus on important information for older adults to build their strength and balance to prevent falls and promote healthy ageing. \nGrants of up to $5\,000 (plus GST) are available and will fund projects running between 1 March and 31 May 2024. \nGrant applications close 5pm Friday 27th October 2023. \nDownload your Move Your Body grant application TODAY!
URL:https://gshpn.com.au/event/grant-application-for-community-falls-prevention-open-now/
LOCATION:Western Australia
CATEGORIES:Health
ATTACH;FMTTYPE=image/png:https://gshpn.com.au/wp-content/uploads/2023/09/230810_SOYF_CommunityFallsPreventionGrantsOpen_LinkedIn.png
END:VEVENT
BEGIN:VEVENT
DTSTART;TZID=Australia/Perth:20230908T130000
DTEND;TZID=Australia/Perth:20230908T140000
DTSTAMP:20260424T035037
CREATED:20230831T061542Z
LAST-MODIFIED:20240220T062503Z
UID:10000558-1694178000-1694181600@gshpn.com.au
SUMMARY:Asthma and Pregnancy The Importance of Breathing for Two
DESCRIPTION:You are invited to register to attend a free webinar on Asthma and Pregnancy presented by Asthma WA Clinical Nurse Specialist Kate Hipwell. \nRegister for our webinar to learn more: \n\nManagement of asthma pre\, during and post pregnancy\nIdentify goals and steps to effectively manage asthma in pregnancy\nUnderstand the maternal and perinatal risks associated with asthma during pregnancy\n\nRegister HERE 
URL:https://gshpn.com.au/event/asthma-and-pregnancy-the-importance-of-breathing-for-two/
LOCATION:Western Australia
CATEGORIES:Health
ATTACH;FMTTYPE=image/png:https://gshpn.com.au/wp-content/uploads/2023/08/asthma-wa.png
END:VEVENT
BEGIN:VEVENT
DTSTART;VALUE=DATE:20230914
DTEND;VALUE=DATE:20230915
DTSTAMP:20260424T035037
CREATED:20230621T035258Z
LAST-MODIFIED:20240220T062456Z
UID:10000538-1694649600-1694735999@gshpn.com.au
SUMMARY:Are U OK Day
DESCRIPTION:Today is Are U Ok Day . R U OK? focuses on building the motivation\, confidence\, and skills of the help-giver\, especially in quickly recognizing suicidal ideations. The organization contributes to suicide prevention efforts by encouraging people to invest more time in their relationships and build an informal support network — friends\, family\, and colleagues. It is more about developing one’s skills as a helper than it is asking for help when you need it. Are You Okay Day also tries to remove the stigma of mental illnesses. \nFor more information on what activities you can do or to read some more click HERE 
URL:https://gshpn.com.au/event/are-u-ok-day/
LOCATION:WA\, Australia
CATEGORIES:Health
ATTACH;FMTTYPE=image/webp:https://gshpn.com.au/wp-content/uploads/2023/06/RUOK.webp
END:VEVENT
BEGIN:VEVENT
DTSTART;TZID=Australia/Perth:20230915T090000
DTEND;TZID=Australia/Perth:20230915T150000
DTSTAMP:20260424T035037
CREATED:20230831T055807Z
LAST-MODIFIED:20240220T062451Z
UID:10000556-1694768400-1694790000@gshpn.com.au
SUMMARY:Advanced Training in Suicide Prevention - Blended
DESCRIPTION:The workshop provides practical tools for health professionals managing the full spectrum of suicide risk presentations including the acute suicidal crisis\, care after a suicide attempt and assisting families experiencing suicide bereavement. \nThis program combines online interactive sessions\, case discussion and self-directed learning modules. \nTo register click HERE
URL:https://gshpn.com.au/event/advanced-training-in-suicide-prevention-blended/
LOCATION:Western Australia
CATEGORIES:Health
ATTACH;FMTTYPE=image/png:https://gshpn.com.au/wp-content/uploads/2023/08/SUICIDE.png
END:VEVENT
BEGIN:VEVENT
DTSTART;TZID=Australia/Perth:20230921T130000
DTEND;TZID=Australia/Perth:20230921T140000
DTSTAMP:20260424T035037
CREATED:20230831T055029Z
LAST-MODIFIED:20240220T062446Z
UID:10000555-1695301200-1695304800@gshpn.com.au
SUMMARY:Expert Insights for Health Professionals: Mental health treatment adherence
DESCRIPTION:This panel will delve into recent research findings on treatment adherence\, particularly regarding how to increase adherence to medication whilst also applying a lens of what is helpful from a clinical perspective when working with patients and clients.  We will be joined on the panel by the powerful voice of lived experience as to what helps and hinders adherence to treatment. \nRegister HERE 
URL:https://gshpn.com.au/event/expert-insights-for-health-professionals-mental-health-treatment-adherence/
LOCATION:Western Australia
CATEGORIES:Health
ATTACH;FMTTYPE=image/png:https://gshpn.com.au/wp-content/uploads/2023/08/blackdog.png
END:VEVENT
BEGIN:VEVENT
DTSTART;TZID=Australia/Perth:20230921T173000
DTEND;TZID=Australia/Perth:20230921T183000
DTSTAMP:20260424T035037
CREATED:20230829T075751Z
LAST-MODIFIED:20240220T061932Z
UID:10000554-1695317400-1695321000@gshpn.com.au
SUMMARY:Medication for Chronic Kidney Disease- FREE ZOOM SESSION
DESCRIPTION:Health professionals\, do you know how to adjust kidney cleared medications for an individual with CKD to minimize potential adverse effects? \nFind out how by joining Kidney Health Australia and Senior Pharmacist\, Carla Scuderi. Using a case study example of an individual with diabetes\, this activity outlines the steps required to confirm a CKD diagnosis as well as guidance on what medicines slow the progression of CKD while reducing the risk of CVD. Practical tips on how to utilise the eGFR to adjust medication dosing will also be discussed. \nTo register click HERE
URL:https://gshpn.com.au/event/medication-for-chronic-kidney-disease-free-zoom-session/
LOCATION:Western Australia
CATEGORIES:Health
ATTACH;FMTTYPE=image/png:https://gshpn.com.au/wp-content/uploads/2023/08/medications.png
END:VEVENT
BEGIN:VEVENT
DTSTART;TZID=Australia/Perth:20230921T180000
DTEND;TZID=Australia/Perth:20230921T200000
DTSTAMP:20260424T035037
CREATED:20230816T035422Z
LAST-MODIFIED:20240220T062441Z
UID:10000552-1695319200-1695326400@gshpn.com.au
SUMMARY:Eating Disorders Education Event
DESCRIPTION:The Great Southern Health Professionals Network would like to invite GPs\, nurses\, pharmacists and allied health professionals to join the Headspace Albany team for an educational evening to discuss how Headspace Albany manages eating disorders in the primary health setting. This presentation will discuss typical and atypical eating disorders and attendees will benefit from collaboration around complex health presentations\, based on the model of the 0020 resources. \nThere will also be a Q&A session at the end where the team will endeavour to answer any questions relating to the topic. \nLight refreshments will be provided\, places are limited \nRegister HERE \n 
URL:https://gshpn.com.au/event/eating-disorders-education-event/
LOCATION:Western Australia
CATEGORIES:Health
ATTACH;FMTTYPE=image/png:https://gshpn.com.au/wp-content/uploads/2023/08/GSHPN_Eating_disorders-21_Sept_FB_event_image_430x225px.png
END:VEVENT
END:VCALENDAR