BEGIN:VCALENDAR
VERSION:2.0
PRODID:-//Great Southern Health Professional Network - ECPv6.15.20//NONSGML v1.0//EN
CALSCALE:GREGORIAN
METHOD:PUBLISH
X-WR-CALNAME:Great Southern Health Professional Network
X-ORIGINAL-URL:https://gshpn.com.au
X-WR-CALDESC:Events for Great Southern Health Professional Network
REFRESH-INTERVAL;VALUE=DURATION:PT1H
X-Robots-Tag:noindex
X-PUBLISHED-TTL:PT1H
BEGIN:VTIMEZONE
TZID:Australia/Perth
BEGIN:STANDARD
TZOFFSETFROM:+0800
TZOFFSETTO:+0800
TZNAME:AWST
DTSTART:20220101T000000
END:STANDARD
END:VTIMEZONE
BEGIN:VEVENT
DTSTART;TZID=Australia/Perth:20230706T170000
DTEND;TZID=Australia/Perth:20230706T180000
DTSTAMP:20260424T060844
CREATED:20230620T072520Z
LAST-MODIFIED:20230620T072520Z
UID:10000537-1688662800-1688666400@gshpn.com.au
SUMMARY:Immunisation Back to Basics - Webinar
DESCRIPTION:This webinar is aimed at practice nurses to help them navigate the Australian Immunisation Register (AIR). \nMichele Cusack will discuss: \n\nAccessing PRODA\nAccessing AIR\nCompleting overseas vaccinations on AIR – with real time examples\n\nREGISTER here
URL:https://gshpn.com.au/event/immunisation-back-to-basics-webinar/
LOCATION:WA\, Australia
CATEGORIES:Health
ATTACH;FMTTYPE=image/jpeg:https://gshpn.com.au/wp-content/uploads/2023/06/Vacc.jpg
END:VEVENT
BEGIN:VEVENT
DTSTART;TZID=Australia/Perth:20230720T183000
DTEND;TZID=Australia/Perth:20230720T193000
DTSTAMP:20260424T060844
CREATED:20230531T024823Z
LAST-MODIFIED:20230531T024823Z
UID:10000533-1689877800-1689881400@gshpn.com.au
SUMMARY:Paediatric Health Program for General Practitioners.
DESCRIPTION:This is a multifaceted education program designed for General Practitioners and includes: monthly live interactive webinars (recordings available)\, an online chat forum\, resources\, and feedback to support your practice in paediatric health care. \nCost: $250 + GST to access all course materials from 16th February 2023 until 16th February 2024. \nClick here for more information and registration
URL:https://gshpn.com.au/event/paediatric-health-program-for-general-practitioners/
LOCATION:WA\, Australia
CATEGORIES:Health
ATTACH;FMTTYPE=image/png:https://gshpn.com.au/wp-content/uploads/2023/05/Child-health.png
END:VEVENT
BEGIN:VEVENT
DTSTART;TZID=Australia/Perth:20230728T080000
DTEND;TZID=Australia/Perth:20230728T163000
DTSTAMP:20260424T060844
CREATED:20230113T024310Z
LAST-MODIFIED:20230113T024310Z
UID:10000511-1690531200-1690561800@gshpn.com.au
SUMMARY:Workshop: Emergency Airway Skills Management
DESCRIPTION:This Rural Health West CPD workshop is designed to assist health professionals to develop and practise skills essential in unexpected crises\, particularly with problem airways. Delivered in WA Country Health Service facilities\, this workshop has a heavy emphasis on teamwork and the organisation of medical emergency teams incorporating presentations\, skill stations and scenario-based crises with simulation manikins (SimMan and baby). \nEligibility: GP anaesthetists and theatre staff. Priority is given to those working in the local region. Should places be available\, emergency department doctors and nurses are invited to register. \nLength: One day – 8.00am-4.30pm \nCost: $50\nThe cost of this workshop is subsidised by WA Country Health Service through the Better Medical Care Initiative \nAccreditation: This workshop is pending accreditation with the Royal Australian College of General Practitioners and the Australian College of Rural and Remote Medicine for continuing professional development hours for the 2023-2025 triennium. \nThis education workshop is proudly delivered by Rural Health West in partnership with WA Country Health Service through the Better Medical Care Initiative. \nExpression of interest here
URL:https://gshpn.com.au/event/workshop-emergency-airway-skills-management/
LOCATION:Albany\, Albany\, WA\, 6330\, Australia
CATEGORIES:Health
END:VEVENT
END:VCALENDAR