BEGIN:VCALENDAR
VERSION:2.0
PRODID:-//Great Southern Health Professional Network - ECPv6.15.20//NONSGML v1.0//EN
CALSCALE:GREGORIAN
METHOD:PUBLISH
X-WR-CALNAME:Great Southern Health Professional Network
X-ORIGINAL-URL:https://gshpn.com.au
X-WR-CALDESC:Events for Great Southern Health Professional Network
REFRESH-INTERVAL;VALUE=DURATION:PT1H
X-Robots-Tag:noindex
X-PUBLISHED-TTL:PT1H
BEGIN:VTIMEZONE
TZID:Australia/Perth
BEGIN:STANDARD
TZOFFSETFROM:+0800
TZOFFSETTO:+0800
TZNAME:AWST
DTSTART:20220101T000000
END:STANDARD
END:VTIMEZONE
BEGIN:VEVENT
DTSTART;TZID=Australia/Perth:20230404T180000
DTEND;TZID=Australia/Perth:20230404T193000
DTSTAMP:20260424T095655
CREATED:20230310T015928Z
LAST-MODIFIED:20240220T062720Z
UID:10000520-1680631200-1680636600@gshpn.com.au
SUMMARY:Webinar Session 3: Adult Trans\, gender diverse and non-binary health
DESCRIPTION:WA Primary Health Alliance’s HealthPathways WA in collaboration with the Child and Adolescent Health Service\, East Metropolitan Health Service and TransFolk of WA are pleased to present a three part webinar series on trans\, gender diverse and non-binary (TGDNB) health. These sessions can be attended individually or as a series. \nThe session is open to GPs\, GP registrars\, hospital-based medical practitioners\, public health physicians\, public health registrars and medical students (University of Western Australia 3rd year\, University of Notre Dame 3rd and 4th years and Curtin University 4th and 5th years). \nThe third session will include: \n\nA discussion about gender identity\, gender affirming hormone therapy\, contraception\, screening\, gender affirming surgery and the role of allied health.\nInformation on prescribing\, local referral pathways\, care plan templates\, supporting gender marker change and service information.\nA clinical case study discussion.\nAn overview of the Transgender Health and Gender Diversity HealthPathway.\n\nClick here to register
URL:https://gshpn.com.au/event/webinar-session-3-adult-trans-gender-diverse-and-non-binary-health/
LOCATION:WA\, Australia
CATEGORIES:Health
END:VEVENT
BEGIN:VEVENT
DTSTART;TZID=Australia/Perth:20230408T080000
DTEND;TZID=Australia/Perth:20230409T170000
DTSTAMP:20260424T095655
CREATED:20230308T040218Z
LAST-MODIFIED:20240220T062714Z
UID:10000521-1680940800-1681059600@gshpn.com.au
SUMMARY:International Conference on Medical & Health Science
DESCRIPTION:ICGET 2023 is being organized by Researchfora. The aim of the conference is to provide the platform for Students\, Researchers and Academicians to share the knowledge and ideas in the recent trends in the field of Green Energy and Technology. \n\n\nICGET will provide an excellent international forum for sharing knowledge and a result in Green Energy and Technology. The aim of the Conference is to provide a platform to the researchers and practitioners from both academia as well as industry to meet the share cutting-edge development in the field. \nClick here for more information
URL:https://gshpn.com.au/event/international-conference-on-medical-health-science/
LOCATION:WA\, Australia
CATEGORIES:Health
END:VEVENT
BEGIN:VEVENT
DTSTART;TZID=Australia/Perth:20230418T110000
DTEND;TZID=Australia/Perth:20230418T233000
DTSTAMP:20260424T095655
CREATED:20230310T020251Z
LAST-MODIFIED:20240220T062709Z
UID:10000522-1681815600-1681860600@gshpn.com.au
SUMMARY:Learn how to use My Health Record: for Pharmacists
DESCRIPTION:This session is aimed at pharmacists and pharmacy staff interested in learning more about My Health Record and how to easily access the system and find clinical documents.\nUsing a software simulation platform the instructor will demonstrate available features of My Health Record. \nClick here for more info and registration
URL:https://gshpn.com.au/event/learn-how-to-use-my-health-record-for-pharmacists/
LOCATION:WA\, Australia
CATEGORIES:Health
END:VEVENT
END:VCALENDAR